Workbook
Name CelkemDPHVypocet: Stavba!$H$46
Name CenaCelkem: Stavba!$G$29
Name CenaCelkemBezDPH: Stavba!$G$28
Name CenaCelkemVypocet: Stavba!$I$46
Name cisloobjektu: Stavba!$D$3
Name CisloRozpoctu: '[1]Krycí list'!$C$2
Name CisloStavby: Stavba!$D$2
Name cislostavby: '[1]Krycí list'!$A$7
Name CisloStavebnihoRozpoctu: Stavba!$D$4
Name dadresa: Stavba!$D$12:$G$12
Name DIČ: Stavba!$I$12
Name dmisto: Stavba!$E$13:$G$13
Name DPHSni: Stavba!$G$24
Name DPHZakl: Stavba!$G$26
Name dpsc: Stavba!$D$13
Name IČO: Stavba!$I$11
Name Mena: Stavba!$J$29
Name MistoStavby: Stavba!$D$4
Name nazevobjektu: Stavba!$E$3
Name NazevRozpoctu: '[1]Krycí list'!$D$2
Name NazevStavby: Stavba!$E$2
Name nazevstavby: '[1]Krycí list'!$C$7
Name NazevStavebnihoRozpoctu: Stavba!$E$4
Name oadresa: Stavba!$D$6
Name Objednatel: Stavba!$D$5
Name Objekt: Stavba!$B$38
Name odic: Stavba!$I$6
Name oico: Stavba!$I$5
Name omisto: Stavba!$E$7
Name onazev: Stavba!$D$6
Name opsc: Stavba!$D$7
Name padresa: Stavba!$D$9
Name pdic: Stavba!$I$9
Name pico: Stavba!$I$8
Name pmisto: Stavba!$E$10
Name PocetMJ: #REF!
Name PoptavkaID: Stavba!$A$1
Name pPSC: Stavba!$D$10
Name Projektant: Stavba!$D$8
Name SazbaDPH1: Stavba!$E$23
Name SazbaDPH1: '[1]Krycí list'!$C$30
Name SazbaDPH2: Stavba!$E$25
Name SazbaDPH2: '[1]Krycí list'!$C$32
Name SloupecCC: #REF!
Name SloupecCisloPol: #REF!
Name SloupecJC: #REF!
Name SloupecMJ: #REF!
Name SloupecMnozstvi: #REF!
Name SloupecNazPol: #REF!
Name SloupecPC: #REF!
Name Vypracoval: Stavba!$D$14
Name ZakladDPHSni: Stavba!$G$23
Name ZakladDPHSniVypocet: Stavba!$F$46
Name ZakladDPHZakl: Stavba!$G$25
Name ZakladDPHZaklVypocet: Stavba!$G$46
Name ZaObjednatele: Stavba!$G$34
Name Zaokrouhleni: Stavba!$G$27
Name ZaZhotovitele: Stavba!$D$34
Name Zhotovitel: Stavba!$D$11:$G$11

Sheet Pokyny pro vyplnění
A1: Pokyny pro vyplnění
A2: Ve všech listech tohoto souboru můžete měnit pouze buňky s modrým pozadím. Jedná se o tyto údaje : - údaje o firmě - jednotkové ceny položek zadané na maximálně dvě desetinná místa

Sheet Stavba
A1: #RTSROZP# | B1: Položkový rozpočet stavby
B2: Stavba: | D2: 2404 | E2: Hygienické zařízení s přístupovou cestou
B5: Objednatel: | D5: Město Rýmařov | H5: IČO: | I5: 296317
D6: náměstí Míru 230/1 | H6: DIČ: | I6: CZ00296317
D7: 79501 | E7: Rýmařov
B8: Projektant: | H8: IČO:
H9: DIČ:
B11: Zhotovitel: | H11: IČO:
H12: DIČ:
B14: Vypracoval:
B15: Rozpis ceny | I15: Celkem
A16: HSV | B16: HSV | I16: =SUMIF(F60:F70,A16,I60:I70)+SUMIF(F60:F70,"PSU",I60:I70) -> 0
A17: PSV | B17: PSV | I17: =SUMIF(F60:F70,A17,I60:I70) -> 0
A18: MON | B18: MON | I18: =SUMIF(F60:F70,A18,I60:I70) -> 0
A19: VN | B19: Vedlejší náklady | I19: =SUMIF(F60:F70,A19,I60:I70) -> 0
A20: ON | B20: Ostatní náklady | I20: =SUMIF(F60:F70,A20,I60:I70) -> 0
B21: Celkem | I21: =SUM(I16:J20) -> 0
B22: Rekapitulace daní
A23: =ZakladDPHSni*SazbaDPH1/100 -> 0 | B23: Základ pro sníženou DPH | E23: 15 | F23: % | G23: =ZakladDPHSniVypocet -> 0 | J23: =Mena -> CZK
A24: =(A23-INT(A23))*100 -> 0 | B24: Snížená DPH | E24: =SazbaDPH1 -> 15 | F24: % | G24: =A23 -> 0 | J24: =Mena -> CZK
A25: =ZakladDPHZakl*SazbaDPH2/100 -> 0 | B25: Základ pro základní DPH | E25: 21 | F25: % | G25: =ZakladDPHZaklVypocet -> 0 | J25: =Mena -> CZK
A26: =(A25-INT(A25))*100 -> 0 | B26: Základní DPH | E26: =SazbaDPH2 -> 21 | F26: % | G26: =A25 -> 0 | J26: =Mena -> CZK
A27: =ZakladDPHSni+DPHSni+ZakladDPHZakl+DPHZakl -> 0 | B27: Zaokrouhlení | G27: =CenaCelkem-(ZakladDPHSni+DPHSni+ZakladDPHZakl+DPHZakl) -> 0 | J27: =Mena -> CZK
B28: Cena celkem bez DPH | G28: =ZakladDPHSniVypocet+ZakladDPHZaklVypocet -> 0 | J28: =Mena -> CZK
A29: =(A27-INT(A27))*100 -> 0 | B29: Cena celkem s DPH | G29: =A27 -> 0 | J29: CZK
C32: v | F32: dne
D35: Za zhotovitele | H35: Za objednatele
B37: Rekapitulace dílčích částí
A38: #CASTI>> | B38: Číslo | C38: Název | F38: =B23 -> Základ pro sníženou DPH | G38: =B25 -> Základ pro základní DPH | H38: DPH celkem | I38: Cena celkem | J38: %
A39: 1 | B39: Stavba | F39: ='001 001 Pol'!AE52+'002 001 Pol'!AE174+'002 002 Pol'!AE246+'002 003 Pol'!AE13 -> 0 | G39: ='001 001 Pol'!AF52+'002 001 Pol'!AF174+'002 002 Pol'!AF246+'002 003 Pol'!AF13 -> 0 | H39: =(F39*SazbaDPH1/100)+(G39*SazbaDPH2/100) -> 0 | I39: =F39+G39+H39 -> 0 | J39: =IF(_xlfn.SINGLE(CenaCelkemVypocet)=0,"",I39/_xlfn.SINGLE(CenaCelkemVypocet)*100) -> #NAME?
A40: 2 | B40: 001 | C40: Vedlejší a ostatní náklady | F40: ='001 001 Pol'!AE52 -> 0 | G40: ='001 001 Pol'!AF52 -> 0 | H40: =(F40*SazbaDPH1/100)+(G40*SazbaDPH2/100) -> 0 | I40: =F40+G40+H40 -> 0 | J40: =IF(_xlfn.SINGLE(CenaCelkemVypocet)=0,"",I40/_xlfn.SINGLE(CenaCelkemVypocet)*100) -> #NAME?
A41: 3 | B41: 001 | C41: VN + ON (cena indiv) | F41: ='001 001 Pol'!AE52 -> 0 | G41: ='001 001 Pol'!AF52 -> 0 | H41: =(F41*SazbaDPH1/100)+(G41*SazbaDPH2/100) -> 0 | I41: =F41+G41+H41 -> 0 | J41: =IF(_xlfn.SINGLE(CenaCelkemVypocet)=0,"",I41/_xlfn.SINGLE(CenaCelkemVypocet)*100) -> #NAME?
A42: 2 | B42: 002 | C42: Rozpočty stavby | F42: ='002 001 Pol'!AE174+'002 002 Pol'!AE246+'002 003 Pol'!AE13 -> 0 | G42: ='002 001 Pol'!AF174+'002 002 Pol'!AF246+'002 003 Pol'!AF13 -> 0 | H42: =(F42*SazbaDPH1/100)+(G42*SazbaDPH2/100) -> 0 | I42: =F42+G42+H42 -> 0 | J42: =IF(_xlfn.SINGLE(CenaCelkemVypocet)=0,"",I42/_xlfn.SINGLE(CenaCelkemVypocet)*100) -> #NAME?
A43: 3 | B43: 001 | C43: Zemní práce, zpevněné plochy - RTS I/2024 | F43: ='002 001 Pol'!AE174 -> 0 | G43: ='002 001 Pol'!AF174 -> 0 | H43: =(F43*SazbaDPH1/100)+(G43*SazbaDPH2/100) -> 0 | I43: =F43+G43+H43 -> 0 | J43: =IF(_xlfn.SINGLE(CenaCelkemVypocet)=0,"",I43/_xlfn.SINGLE(CenaCelkemVypocet)*100) -> #NAME?
A44: 3 | B44: 002 | C44: Přípojka vodovodu, splaškové kanalizace, NN, dešťové kanalizace - RTS I/2024 | F44: ='002 002 Pol'!AE246 -> 0 | G44: ='002 002 Pol'!AF246 -> 0 | H44: =(F44*SazbaDPH1/100)+(G44*SazbaDPH2/100) -> 0 | I44: =F44+G44+H44 -> 0 | J44: =IF(_xlfn.SINGLE(CenaCelkemVypocet)=0,"",I44/_xlfn.SINGLE(CenaCelkemVypocet)*100) -> #NAME?
A45: 3 | B45: 003 | C45: Modulové automatické WC - cena dle výrobce | F45: ='002 003 Pol'!AE13 -> 0 | G45: ='002 003 Pol'!AF13 -> 0 | H45: =(F45*SazbaDPH1/100)+(G45*SazbaDPH2/100) -> 0 | I45: =F45+G45+H45 -> 0 | J45: =IF(_xlfn.SINGLE(CenaCelkemVypocet)=0,"",I45/_xlfn.SINGLE(CenaCelkemVypocet)*100) -> #NAME?
B46: Celkem za stavbu | F46: =SUMIF(A39:A45,"=1",F39:F45) -> 0 | G46: =SUMIF(A39:A45,"=1",G39:G45) -> 0 | H46: =SUMIF(A39:A45,"=1",H39:H45) -> 0 | I46: =SUMIF(A39:A45,"=1",I39:I45) -> 0 | J46: =SUMIF(A39:A45,"=1",J39:J45) -> #NAME?
A48: #POPS | B48: Popis stavby: 2404 - Hygienické zařízení s přístupovou cestou
A49: #POPO | B49: Popis objektu: 001 - Vedlejší a ostatní náklady
A50: #POPR | B50: Popis rozpočtu: 001 - VN + ON (cena indiv)
...

Sheet VzorPolozky
A1: Položkový rozpočet
A2: S:
A3: O:
A4: R:

Sheet 001 001 Pol
A1: Položkový rozpočet | AG1: #TypZaznamu#
A2: S: | B2: 2404 | C2: Hygienické zařízení s přístupovou cestou | AG2: STA
A3: O: | B3: 001 | C3: Vedlejší a ostatní náklady | AC3: STA | AG3: OBJ
A4: R: | B4: 001 | C4: VN + ON (cena indiv) | AG4: ROZ
A6: P.č. | B6: Číslo položky | C6: Název položky | D6: MJ | E6: Množství | F6: Cena / MJ | G6: Celkem | H6: Dodávka | I6: Dodávka celk. | J6: Montáž | K6: Montáž celk. | L6: DPH | M6: Cena s DPH | N6: Hmotnost / MJ | O6: Hmotnost celk.(t) | P6: Dem. hmotnost / MJ | Q6: Dem. hmotnost celk.(t) | R6: Ceník | S6: Cen. soustava / platnost | T6: Cenová úroveň | U6: Nhod / MJ | V6: Nhod celk. | W6: Dodavatel | X6: Typ položky | Y6: Stav položky
A8: Díl: | B8: VN | C8: Vedlejší náklady | G8: =SUMIF(AG9:AG23,"<>NOR",G9:G23) -> 0 | I8: =SUM(I9:I23) -> 0 | K8: =SUM(K9:K23) -> 0 | M8: =SUM(M9:M23) -> 0 | O8: =SUM(O9:O23) -> 0 | Q8: =SUM(Q9:Q23) -> 0 | V8: =SUM(V9:V23) -> 0 | AG8: DIL
A9: 1 | B9: 005121010R | C9: Vybudování zařízení staveniště | D9: Soubor | E9: 1 | G9: =ROUND(E9*F9,2) -> 0 | I9: =ROUND(E9*H9,2) -> 0 | K9: =ROUND(E9*J9,2) -> 0 | L9: 21 | M9: =G9*(1+L9/100) -> 0 | N9: 0 | O9: =ROUND(E9*N9,2) -> 0 | P9: 0 | Q9: =ROUND(E9*P9,2) -> 0 | S9: RTS 24/ I | T9: Indiv | U9: 0 | V9: =ROUND(E9*U9,2) -> 0 | X9: VRN | Y9: Běžná | AG9: POL99_8
C10: - náklady spojené se zřízením přípojek energií k objektům zařízení staveniště, vybudování případných měřících odběrných míst a zřízení, případná příprava území pro objekty zařízení staveniště a vlastní vybudování objektů zařízení staveniště. | AG10: POP | BA10: =C10 -> - náklady spojené se zřízením přípojek energií k objektům zařízení staveniště, vybudování případných měřících odběrných míst a zřízení, případná příprava území pro objekty zařízení staveniště a vlastní vybudování objektů zařízení staveniště.
A11: 2 | B11: 005121020R | C11: Provoz zařízení staveniště | D11: Soubor | E11: 1 | G11: =ROUND(E11*F11,2) -> 0 | I11: =ROUND(E11*H11,2) -> 0 | K11: =ROUND(E11*J11,2) -> 0 | L11: 21 | M11: =G11*(1+L11/100) -> 0 | N11: 0 | O11: =ROUND(E11*N11,2) -> 0 | P11: 0 | Q11: =ROUND(E11*P11,2) -> 0 | S11: RTS 24/ I | T11: Indiv | U11: 0 | V11: =ROUND(E11*U11,2) -> 0 | X11: VRN | Y11: Běžná | AG11: POL99_8
C12: - náklady na vybavení objektů zařízení staveniště, ostraha staveniště, náklady na energie spotřebované dodavatelem v rámci provozu zařízení staveniště, náklady na potřebný úklid v prostorách zařízení staveniště, náklady na nutnou údržbu a opravy na objektech zařízení staveniště a na přípojkách energií. | AG12: POP | BA12: =C12 -> - náklady na vybavení objektů zařízení staveniště, ostraha staveniště, náklady na energie spotřebované dodavatelem v rámci provozu zařízení staveniště, náklady na potřebný úklid v prostorách zařízení staveniště, náklady na nutnou údržbu a opravy na objektech zařízení staveniště a na přípojkách energií.
A13: 3 | B13: 005121030R | C13: Odstranění zařízení staveniště | D13: Soubor | E13: 1 | G13: =ROUND(E13*F13,2) -> 0 | I13: =ROUND(E13*H13,2) -> 0 | K13: =ROUND(E13*J13,2) -> 0 | L13: 21 | M13: =G13*(1+L13/100) -> 0 | N13: 0 | O13: =ROUND(E13*N13,2) -> 0 | P13: 0 | Q13: =ROUND(E13*P13,2) -> 0 | S13: RTS 24/ I | T13: Indiv | U13: 0 | V13: =ROUND(E13*U13,2) -> 0 | X13: VRN | Y13: Běžná | AG13: POL99_8
C14: - odstranění objektů zařízení staveniště včetně přípojek energií a jejich odvoz. Položka zahrnuje i náklady na úpravu povrchů po odstranění zařízení staveniště a úklid ploch, na kterých bylo zařízení staveniště provozováno. | AG14: POP | BA14: =C14 -> - odstranění objektů zařízení staveniště včetně přípojek energií a jejich odvoz. Položka zahrnuje i náklady na úpravu povrchů po odstranění zařízení staveniště a úklid ploch, na kterých bylo zařízení staveniště provozováno.
A15: 4 | B15: 02946OA0 | C15: Fotodokumentace stavby | D15: soubor | E15: 1 | G15: =ROUND(E15*F15,2) -> 0 | I15: =ROUND(E15*H15,2) -> 0 | K15: =ROUND(E15*J15,2) -> 0 | L15: 21 | M15: =G15*(1+L15/100) -> 0 | N15: 0 | O15: =ROUND(E15*N15,2) -> 0 | P15: 0 | Q15: =ROUND(E15*P15,2) -> 0 | S15: RTS 24/ I | T15: Indiv | U15: 0 | V15: =ROUND(E15*U15,2) -> 0 | X15: Agregovaná položka | Y15: Běžná | AG15: POL2_
C16: - dodavatel zajistí zpracování fotodokumentace průběhu prací na stavbě, kterou následně předá investorovi. Fotodokumentace bude dokladovat postup prací po jednotlivých dnech, nasazení stavebních mechanismů i provádění zkoušek. Snímky budou předány na CD ve složkách pojmenovaných dle jednotlivých dnů. | AG16: POP | BA16: =C16 -> - dodavatel zajistí zpracování fotodokumentace průběhu prací na stavbě, kterou následně předá investorovi. Fotodokumentace bude dokladovat postup prací po jednotlivých dnech, nasazení stavebních mechanismů i provádění zkoušek. Snímky budou předány na CD ve složkách pojmenovaných dle jednotlivých dnů.
A17: 5 | B17: VNP1 | C17: Náklady vzniklé v souvislosti s realizací stavby | D17: soubor | E17: 1 | G17: =ROUND(E17*F17,2) -> 0 | I17: =ROUND(E17*H17,2) -> 0 | K17: =ROUND(E17*J17,2) -> 0 | L17: 21 | M17: =G17*(1+L17/100) -> 0 | N17: 0 | O17: =ROUND(E17*N17,2) -> 0 | P17: 0 | Q17: =ROUND(E17*P17,2) -> 0 | S17: Vlastní | T17: Indiv | U17: 0 | V17: =ROUND(E17*U17,2) -> 0 | X17: VRN | Y17: Běžná | AG17: POL99_8
C18: - náklady související s případným zásahem do silničních pozemků | AG18: POP
C19: - průběžné čištění znečištěných komunikací stavbou | AG19: POP
C20: - zajištění zpětného předání dotčených ploch jednotlivým majitelům a správcům | AG20: POP
C21: - zajištění obslužného provozu - zásobování, svoz kom. odpadu, vjezd vozidel složek integrovaného záchranného systému | AG21: POP | BA21: =C21 -> - zajištění obslužného provozu - zásobování, svoz kom. odpadu, vjezd vozidel složek integrovaného záchranného systému
C22: - zajištění výkopů (zábradlí) a přístupů k objektům (lávky, budou využity dle postupu výstavby vždy v dotčeném prostoru) | AG22: POP | BA22: =C22 -> - zajištění výkopů (zábradlí) a přístupů k objektům (lávky, budou využity dle postupu výstavby vždy v dotčeném prostoru)
C23: - koordinace prací na stavbě a tvorba harmonogramu výstavby | AG23: POP
A24: Díl: | B24: ON | C24: Ostatní náklady | G24: =SUMIF(AG25:AG50,"<>NOR",G25:G50) -> 0 | I24: =SUM(I25:I50) -> 0 | K24: =SUM(K25:K50) -> 0 | M24: =SUM(M25:M50) -> 0 | O24: =SUM(O25:O50) -> 0 | Q24: =SUM(Q25:Q50) -> 0 | V24: =SUM(V25:V50) -> 0 | AG24: DIL
A25: 6 | B25: 005211030R | C25: Dočasná dopravní opatření, vyznačení stavby | D25: Soubor | E25: 1 | G25: =ROUND(E25*F25,2) -> 0 | I25: =ROUND(E25*H25,2) -> 0 | K25: =ROUND(E25*J25,2) -> 0 | L25: 21 | M25: =G25*(1+L25/100) -> 0 | N25: 0 | O25: =ROUND(E25*N25,2) -> 0 | P25: 0 | Q25: =ROUND(E25*P25,2) -> 0 | S25: RTS 24/ I | T25: Indiv | U25: 0 | V25: =ROUND(E25*U25,2) -> 0 | X25: VRN | Y25: Běžná | AG25: POL99_8
C26: - náklady na zabezpečení stavby proti vstupu třetích osob, vyznačení stavby po celou dobu trvání mobilním oplocením apod., rozmístění a přemísťování oplocení a jeho údržba v průběhu výstavby včetně následného odstranění po ukončení stavebních prací | AG26: POP | BA26: =C26 -> - náklady na zabezpečení stavby proti vstupu třetích osob, vyznačení stavby po celou dobu trvání mobilním oplocením apod., rozmístění a přemísťování oplocení a jeho údržba v průběhu výstavby včetně následného odstranění po ukončení stavebních prací
C27: - náklady na dopravní opatření - v případě potřeby vyznačení stavby na pozemních komunikacích | AG27: POP
A28: 7 | B28: 005111020R | C28: Vytyčení stavby | D28: Soubor | E28: 1 | G28: =ROUND(E28*F28,2) -> 0 | I28: =ROUND(E28*H28,2) -> 0 | K28: =ROUND(E28*J28,2) -> 0 | L28: 21 | M28: =G28*(1+L28/100) -> 0 | N28: 0 | O28: =ROUND(E28*N28,2) -> 0 | P28: 0 | Q28: =ROUND(E28*P28,2) -> 0 | S28: RTS 24/ I | T28: Indiv | U28: 0 | V28: =ROUND(E28*U28,2) -> 0 | X28: VRN | Y28: Běžná | AG28: POL99_8
C29: - geodetické práce související s výstavbou | AG29: POP
C30: - vyhotovení protokolu o vytyčení stavby se seznamem souřadnic vytyčených bodů a jejich polohopisnými (S-JTSK) a výškopisnými (Bpv) hodnotami. | AG30: POP | BA30: =C30 -> - vyhotovení protokolu o vytyčení stavby se seznamem souřadnic vytyčených bodů a jejich polohopisnými (S-JTSK) a výškopisnými (Bpv) hodnotami.
A31: 8 | B31: 005111021R | C31: Vytyčení inženýrských sítí | D31: Soubor | E31: 1 | G31: =ROUND(E31*F31,2) -> 0 | I31: =ROUND(E31*H31,2) -> 0 | K31: =ROUND(E31*J31,2) -> 0 | L31: 21 | M31: =G31*(1+L31/100) -> 0 | N31: 0 | O31: =ROUND(E31*N31,2) -> 0 | P31: 0 | Q31: =ROUND(E31*P31,2) -> 0 | S31: RTS 24/ I | T31: Indiv | U31: 0 | V31: =ROUND(E31*U31,2) -> 0 | X31: VRN | Y31: Běžná | AG31: POL99_8
C32: - zaměření a vytýčení stávajících inženýrských sítí v místě stavby z hlediska jejich ochrany při provádění stavby. | AG32: POP | BA32: =C32 -> - zaměření a vytýčení stávajících inženýrských sítí v místě stavby z hlediska jejich ochrany při provádění stavby.
A33: 9 | B33: 005211020R | C33: Ochrana stávaj. inženýrských sítí na staveništi | D33: Soubor | E33: 1 | G33: =ROUND(E33*F33,2) -> 0 | I33: =ROUND(E33*H33,2) -> 0 | K33: =ROUND(E33*J33,2) -> 0 | L33: 21 | M33: =G33*(1+L33/100) -> 0 | N33: 0 | O33: =ROUND(E33*N33,2) -> 0 | P33: 0 | Q33: =ROUND(E33*P33,2) -> 0 | S33: RTS 24/ I | T33: Indiv | U33: 0 | V33: =ROUND(E33*U33,2) -> 0 | X33: VRN | Y33: Běžná | AG33: POL99_8
C34: - náklady na přezkoumání podkladů objednatele o stavu inženýrských sítí probíhajících staveništěm nebo dotčenými stavbou i mimo území staveniště, kontrola vytýčení jejich skutečné trasy a provedení ochranných opatření pro zabezpečení stávajících inženýrských sítí. | AG34: POP | BA34: =C34 -> - náklady na přezkoumání podkladů objednatele o stavu inženýrských sítí probíhajících staveništěm nebo dotčenými stavbou i mimo území staveniště, kontrola vytýčení jejich skutečné trasy a provedení ochranných opatření pro zabezpečení stávajících inženýrských sítí.
A35: 10 | B35: 005241020R | C35: Geodetické zaměření skutečného provedení | D35: Soubor | E35: 1 | G35: =ROUND(E35*F35,2) -> 0 | I35: =ROUND(E35*H35,2) -> 0 | K35: =ROUND(E35*J35,2) -> 0 | L35: 21 | M35: =G35*(1+L35/100) -> 0 | N35: 0 | O35: =ROUND(E35*N35,2) -> 0 | P35: 0 | Q35: =ROUND(E35*P35,2) -> 0 | S35: RTS 24/ I | T35: Indiv | U35: 0 | V35: =ROUND(E35*U35,2) -> 0 | X35: VRN | Y35: Běžná | AG35: POL99_8
C36: - geodetické zaměření skutečného stavu jednotlivých objektů oprávněnou osobou (tiskopis v graf. formě 3x, v digitální formě 1x, všech objektů stavby) | AG36: POP | BA36: =C36 -> - geodetické zaměření skutečného stavu jednotlivých objektů oprávněnou osobou (tiskopis v graf. formě 3x, v digitální formě 1x, všech objektů stavby)
C37: - doklady ke kolaudaci, revizní zprávy jsou-li vyžadovány | AG37: POP
A38: 11 | B38: 00511 R | C38: Geodetické práce | D38: Soubor | E38: 1 | G38: =ROUND(E38*F38,2) -> 0 | I38: =ROUND(E38*H38,2) -> 0 | K38: =ROUND(E38*J38,2) -> 0 | L38: 21 | M38: =G38*(1+L38/100) -> 0 | N38: 0 | O38: =ROUND(E38*N38,2) -> 0 | P38: 0 | Q38: =ROUND(E38*P38,2) -> 0 | S38: RTS 24/ I | T38: Indiv | U38: 0 | V38: =ROUND(E38*U38,2) -> 0 | X38: VRN | Y38: Běžná | AG38: POL99_8
C39: - vypracování geometrického plánu stavby | AG39: POP
C40: - přípravu podkladů, podání žádosti na katastrální úřad | AG40: POP
C41: - polní práce spojené s vyhotovením geometrického plánu | AG41: POP
C42: - výpočetní a grafické kancelářské práce | AG42: POP
...

Sheet 002 001 Pol
A1: Položkový rozpočet | AG1: #TypZaznamu#
A2: S: | B2: 2404 | C2: Hygienické zařízení s přístupovou cestou | AG2: STA
A3: O: | B3: 002 | C3: Rozpočty stavby | AC3: STA | AG3: OBJ
A4: R: | B4: 001 | C4: Zemní práce, zpevněné plochy - RTS I/2024 | AG4: ROZ
A6: P.č. | B6: Číslo položky | C6: Název položky | D6: MJ | E6: Množství | F6: Cena / MJ | G6: Celkem | H6: Dodávka | I6: Dodávka celk. | J6: Montáž | K6: Montáž celk. | L6: DPH | M6: Cena s DPH | N6: Hmotnost / MJ | O6: Hmotnost celk.(t) | P6: Dem. hmotnost / MJ | Q6: Dem. hmotnost celk.(t) | R6: Ceník | S6: Cen. soustava / platnost | T6: Cenová úroveň | U6: Nhod / MJ | V6: Nhod celk. | W6: Dodavatel | X6: Typ položky | Y6: Stav položky
A8: Díl: | B8: 1 | C8: Zemní práce | G8: =SUMIF(AG9:AG56,"<>NOR",G9:G56) -> 0 | I8: =SUM(I9:I56) -> 0 | K8: =SUM(K9:K56) -> 0 | M8: =SUM(M9:M56) -> 0 | O8: =SUM(O9:O56) -> 0 | Q8: =SUM(Q9:Q56) -> 36.29 | V8: =SUM(V9:V56) -> 81.97 | AG8: DIL
A9: 1 | B9: 121100002RAA | C9: Sejmutí ornice a uložení na deponii zpětný přesun, rozprostření v tl. 20 cm | D9: m3 | E9: 21.218 | G9: =ROUND(E9*F9,2) -> 0 | I9: =ROUND(E9*H9,2) -> 0 | K9: =ROUND(E9*J9,2) -> 0 | L9: 21 | M9: =G9*(1+L9/100) -> 0 | N9: 0 | O9: =ROUND(E9*N9,2) -> 0 | P9: 0 | Q9: =ROUND(E9*P9,2) -> 0 | S9: RTS 24/ I | T9: RTS 24/ I | U9: 0 | V9: =ROUND(E9*U9,2) -> 0 | X9: Agregovaná položka | Y9: Běžná | AG9: POL2_
C10: - v plochách zeleně dotčených stavbou, sejmutí ornice v tl. 100 mm | AG10: POP
C11: - mezideponie vzdálena do 1,0 km | AG11: POP
C12: - ornice bude sejmuta, uskladněna na meziskládce a následně zpětně přesunuta a rozprostřena | AG12: POP
C13: - přebytečbá ornice bude rozhrnuta na pozemcích investora pro zlepšení vegetačního pokryvu, či uložena dle jeho pokynů | AG13: POP | BA13: =C13 -> - přebytečbá ornice bude rozhrnuta na pozemcích investora pro zlepšení vegetačního pokryvu, či uložena dle jeho pokynů
C14: sejmutí ornice : ((18,75+10,80+20,50+3,0)*2,0+9,30*6,85+3,65*7,5+5,0*3,0)*0,1 | E14: 21.218 | AG14: VV | AH14: 0
A15: 2 | B15: 111201101R00 | C15: Odstranění křovin i s kořeny na ploše do 1000 m2 | D15: m2 | E15: 30 | G15: =ROUND(E15*F15,2) -> 0 | I15: =ROUND(E15*H15,2) -> 0 | K15: =ROUND(E15*J15,2) -> 0 | L15: 21 | M15: =G15*(1+L15/100) -> 0 | N15: 0 | O15: =ROUND(E15*N15,2) -> 0 | P15: 0 | Q15: =ROUND(E15*P15,2) -> 0 | S15: RTS 24/ I | T15: RTS 24/ I | U15: 0.17 | V15: =ROUND(E15*U15,2) -> 5.1 | X15: Práce | Y15: Běžná | AG15: POL1_
C16: - odstranění křovin v kolizi z konstrukce stavby, vč. přemístění do 3,0 km dle pokynů stavebníka | AG16: POP
C17: 2,0*15,0 | E17: 30 | AG17: VV | AH17: 0
A18: 3 | B18: 182201101R00 | C18: Svahování násypů / zářezů | D18: m2 | E18: 32.1 | G18: =ROUND(E18*F18,2) -> 0 | I18: =ROUND(E18*H18,2) -> 0 | K18: =ROUND(E18*J18,2) -> 0 | L18: 21 | M18: =G18*(1+L18/100) -> 0 | N18: 0 | O18: =ROUND(E18*N18,2) -> 0 | P18: 0 | Q18: =ROUND(E18*P18,2) -> 0 | S18: RTS 24/ I | T18: RTS 24/ I | U18: 0.11 | V18: =ROUND(E18*U18,2) -> 3.53 | X18: Práce | Y18: Běžná | AG18: POL1_
C19: - úprava svahování okolo buňky WC | AG19: POP
C20: 9,30*2*1,0+6,75*2*1,0 | E20: 32.1 | AG20: VV | AH20: 0
A21: 4 | B21: 113108309R00 | C21: Odstranění asfaltové vrstvy pl. do 50 m2, tl. 9 cm | D21: m2 | E21: 32 | G21: =ROUND(E21*F21,2) -> 0 | I21: =ROUND(E21*H21,2) -> 0 | K21: =ROUND(E21*J21,2) -> 0 | L21: 21 | M21: =G21*(1+L21/100) -> 0 | N21: 0 | O21: =ROUND(E21*N21,2) -> 0 | P21: 0.198 | Q21: =ROUND(E21*P21,2) -> 6.34 | S21: RTS 24/ I | T21: RTS 24/ I | U21: 0.34 | V21: =ROUND(E21*U21,2) -> 10.88 | X21: Práce | Y21: Běžná | AG21: POL1_
C22: - odstranění asf. v prostoru provádění sítí | AG22: POP
C23: (11,0+5,0)*2,0 | E23: 32 | AG23: VV | AH23: 0
A24: 5 | B24: 113106212R00 | C24: Rozebrání dlažeb z velkých kostek v živici / betonu | D24: m2 | E24: 2.5 | G24: =ROUND(E24*F24,2) -> 0 | I24: =ROUND(E24*H24,2) -> 0 | K24: =ROUND(E24*J24,2) -> 0 | L24: 21 | M24: =G24*(1+L24/100) -> 0 | N24: 0 | O24: =ROUND(E24*N24,2) -> 0 | P24: 0.505 | Q24: =ROUND(E24*P24,2) -> 1.26 | S24: RTS 24/ I | T24: RTS 24/ I | U24: 0.18 | V24: =ROUND(E24*U24,2) -> 0.45 | X24: Práce | Y24: Běžná | AG24: POL1_
C25: - rozebrání kostek dvojřádku - v prostoru provádění sítí | AG25: POP
C26: (2,0*3+2,0*2)*0,25 | E26: 2.5 | AG26: VV | AH26: 0
A27: 6 | B27: 979071112R00 | C27: Očištění vybour. kostek velkých s výplní MC/živicí | D27: m2 | E27: 2.5 | G27: =ROUND(E27*F27,2) -> 0 | I27: =ROUND(E27*H27,2) -> 0 | K27: =ROUND(E27*J27,2) -> 0 | L27: 21 | M27: =G27*(1+L27/100) -> 0 | N27: 0 | O27: =ROUND(E27*N27,2) -> 0 | P27: 0 | Q27: =ROUND(E27*P27,2) -> 0 | S27: RTS 24/ I | T27: RTS 24/ I | U27: 0.22 | V27: =ROUND(E27*U27,2) -> 0.55 | X27: Práce | Y27: Běžná | AG27: POL1_
C28: - očištění vybouraných kostek pro další použití | AG28: POP
A29: 7 | B29: 113106211R00 | C29: Rozebrání dlažeb z velkých kostek v kam. těženém | D29: m2 | E29: 5.5 | G29: =ROUND(E29*F29,2) -> 0 | I29: =ROUND(E29*H29,2) -> 0 | K29: =ROUND(E29*J29,2) -> 0 | L29: 21 | M29: =G29*(1+L29/100) -> 0 | N29: 0 | O29: =ROUND(E29*N29,2) -> 0 | P29: 0.417 | Q29: =ROUND(E29*P29,2) -> 2.29 | S29: RTS 24/ I | T29: RTS 24/ I | U29: 0.13 | V29: =ROUND(E29*U29,2) -> 0.72 | X29: Práce | Y29: Běžná | AG29: POL1_
C30: - rozebrání povrchu parkovací plochy v prostoru provádění sítí | AG30: POP
C31: 2,0*2,75 | E31: 5.5 | AG31: VV | AH31: 0
A32: 8 | B32: 979071111R00 | C32: Očištění vybour. kostek velkých s výplní kam. těž. | D32: m2 | E32: 5.5 | G32: =ROUND(E32*F32,2) -> 0 | I32: =ROUND(E32*H32,2) -> 0 | K32: =ROUND(E32*J32,2) -> 0 | L32: 21 | M32: =G32*(1+L32/100) -> 0 | N32: 0 | O32: =ROUND(E32*N32,2) -> 0 | P32: 0 | Q32: =ROUND(E32*P32,2) -> 0 | S32: RTS 24/ I | T32: RTS 24/ I | U32: 0.09 | V32: =ROUND(E32*U32,2) -> 0.5 | X32: Práce | Y32: Běžná | AG32: POL1_
C33: - očištění rozebraných kostek parkovacích stání | AG33: POP
A34: 9 | B34: 113107530R00 | C34: Odstranění podkladu pl. 50 m2,kam.drcené tl.30 cm | D34: m2 | E34: 40 | G34: =ROUND(E34*F34,2) -> 0 | I34: =ROUND(E34*H34,2) -> 0 | K34: =ROUND(E34*J34,2) -> 0 | L34: 21 | M34: =G34*(1+L34/100) -> 0 | N34: 0 | O34: =ROUND(E34*N34,2) -> 0 | P34: 0.66 | Q34: =ROUND(E34*P34,2) -> 26.4 | S34: RTS 24/ I | T34: RTS 24/ I | U34: 1.05 | V34: =ROUND(E34*U34,2) -> 42 | X34: Práce | Y34: Běžná | AG34: POL1_
C35: - odstranění podkladu stávající komunikace v prostoru provádění sítí, tl. 0,30 m | AG35: POP
C36: komunikace : (11,0+5,0)*2 | E36: 32 | AG36: VV | AH36: 0
C37: dvojřádek : 2,50 | E37: 2.5 | AG37: VV | AH37: 0
C38: parkovací plocha : 5,50 | E38: 5.5 | AG38: VV | AH38: 0
A39: 10 | B39: 122302201R00 | C39: Odkopávky pro silnice v hor. 4 do 100 m3 | D39: m3 | E39: 5.325 | G39: =ROUND(E39*F39,2) -> 0 | I39: =ROUND(E39*H39,2) -> 0 | K39: =ROUND(E39*J39,2) -> 0 | L39: 21 | M39: =G39*(1+L39/100) -> 0 | N39: 0 | O39: =ROUND(E39*N39,2) -> 0 | P39: 0 | Q39: =ROUND(E39*P39,2) -> 0 | S39: RTS 24/ I | T39: RTS 18/ II | U39: 0.818 | V39: =ROUND(E39*U39,2) -> 4.36 | X39: Práce | Y39: Běžná | AG39: POL1_
C40: - odkopávky pro možnot provedení povrchu a podkladů chodníku | AG40: POP
C41: 35,50*(0,25-0,10) | E41: 5.325 | AG41: VV | AH41: 0
A42: 11 | B42: 131301201R00 | C42: Hloubení zapažených jam v hor.4 do 100 m3 | D42: m3 | E42: 2.25 | G42: =ROUND(E42*F42,2) -> 0 | I42: =ROUND(E42*H42,2) -> 0 | K42: =ROUND(E42*J42,2) -> 0 | L42: 21 | M42: =G42*(1+L42/100) -> 0 | N42: 0 | O42: =ROUND(E42*N42,2) -> 0 | P42: 0 | Q42: =ROUND(E42*P42,2) -> 0 | S42: RTS 24/ I | T42: RTS 24/ I | U42: 2.97 | V42: =ROUND(E42*U42,2) -> 6.68 | X42: Práce | Y42: Běžná | AG42: POL1_
...

Sheet 002 002 Pol
A1: Položkový rozpočet | AG1: #TypZaznamu#
A2: S: | B2: 2404 | C2: Hygienické zařízení s přístupovou cestou | AG2: STA
A3: O: | B3: 002 | C3: Rozpočty stavby | AC3: STA | AG3: OBJ
A4: R: | B4: 002 | C4: Přípojka vodovodu, splaškové kanalizace, NN, dešťové kanalizace - RTS I/2024 | AG4: ROZ
A6: P.č. | B6: Číslo položky | C6: Název položky | D6: MJ | E6: Množství | F6: Cena / MJ | G6: Celkem | H6: Dodávka | I6: Dodávka celk. | J6: Montáž | K6: Montáž celk. | L6: DPH | M6: Cena s DPH | N6: Hmotnost / MJ | O6: Hmotnost celk.(t) | P6: Dem. hmotnost / MJ | Q6: Dem. hmotnost celk.(t) | R6: Ceník | S6: Cen. soustava / platnost | T6: Cenová úroveň | U6: Nhod / MJ | V6: Nhod celk. | W6: Dodavatel | X6: Typ položky | Y6: Stav položky
A8: Díl: | B8: 1 | C8: Zemní práce | G8: =SUMIF(AG9:AG106,"<>NOR",G9:G106) -> 0 | I8: =SUM(I9:I106) -> 0 | K8: =SUM(K9:K106) -> 0 | M8: =SUM(M9:M106) -> 0 | O8: =SUM(O9:O106) -> 82.35 | Q8: =SUM(Q9:Q106) -> 0 | V8: =SUM(V9:V106) -> 285.95 | AG8: DIL
A9: 1 | B9: 131301201R00 | C9: Hloubení zapažených jam v hor.4 do 100 m3 | D9: m3 | E9: 9.52 | G9: =ROUND(E9*F9,2) -> 0 | I9: =ROUND(E9*H9,2) -> 0 | K9: =ROUND(E9*J9,2) -> 0 | L9: 21 | M9: =G9*(1+L9/100) -> 0 | N9: 0 | O9: =ROUND(E9*N9,2) -> 0 | P9: 0 | Q9: =ROUND(E9*P9,2) -> 0 | S9: RTS 24/ I | T9: RTS 24/ I | U9: 2.97 | V9: =ROUND(E9*U9,2) -> 28.27 | X9: Práce | Y9: Běžná | AG9: POL1_
C10: Hloubení jam, předpoklad výkopu v hor. 4 | AG10: POP
C11: - výkop v prostoru zeleně = povrch - 0,10 m, hloubka výkopu pro vodovod = 1,50 m, splaškovou kanalizaci = 1,20 m a NN = 1,0 m | AG11: POP | BA11: =C11 -> - výkop v prostoru zeleně = povrch - 0,10 m, hloubka výkopu pro vodovod = 1,50 m, splaškovou kanalizaci = 1,20 m a NN = 1,0 m
C12: - 80% strojní výkop, 20% ruční | AG12: POP
C13: hloubení jám vodovod : 1,0*1,0*1,50*2*0,80 | E13: 2.4 | AG13: VV | AH13: 0
C14: hloubení jam splašková kanalizace : 1,0*1,0*1,20*2*0,80 | E14: 1.92 | AG14: VV | AH14: 0
C15: hloubení jam NN : 1,0*1,0*1,0*2*0,80 | E15: 1.6 | AG15: VV | AH15: 0
C16: hloubení vsakovacího objektu : 3,0*1,0*1,50*0,80 | E16: 3.6 | AG16: VV | AH16: 0
A17: 2 | B17: 132301211R00 | C17: Hloubení rýh š.do 200 cm hor.4 do 100 m3, STROJNĚ | D17: m3 | E17: 64.504 | G17: =ROUND(E17*F17,2) -> 0 | I17: =ROUND(E17*H17,2) -> 0 | K17: =ROUND(E17*J17,2) -> 0 | L17: 21 | M17: =G17*(1+L17/100) -> 0 | N17: 0 | O17: =ROUND(E17*N17,2) -> 0 | P17: 0 | Q17: =ROUND(E17*P17,2) -> 0 | S17: RTS 24/ I | T17: RTS 24/ I | U17: 0.35 | V17: =ROUND(E17*U17,2) -> 22.58 | X17: Práce | Y17: Běžná | AG17: POL1_
C18: - výkop rýh pro uložení sítí | AG18: POP
C19: - v prostoru zeleně = povrch - 0,10 m, v prostoru komunikace a dlažby parkování povrch - 0,40 m, v prostoru chodníku = povrch - 0,25 m | AG19: POP | BA19: =C19 -> - v prostoru zeleně = povrch - 0,10 m, v prostoru komunikace a dlažby parkování povrch - 0,40 m, v prostoru chodníku = povrch - 0,25 m
C20: - hloubka výkopu pro vodovod = 1,50 m, splaškovou kanalizaci = 1,20 m a NN = 1,0 m | AG20: POP
C21: - 80% strojní výkop, 20% ruční | AG21: POP
C22: hloubení rýhy vodovod : (18,75*(1,50-0,10)+13,75*(1,50-0,40)+2,10*(1,50-0,25))*0,80 | E22: 35.2 | AG22: VV | AH22: 0
C23: hloubení rýhy splašková kanalizace : (10,80*(1,20-0,10)*0,80) | E23: 9.504 | AG23: VV | AH23: 0
C24: hloubení rýhy DK : 3,0*(1,20-0,10)*0,80 | E24: 2.64 | AG24: VV | AH24: 0
C25: hloubení rýhy NN : (5,0*(1,0-0,40)+20,50*(1,0-0,10))*0,80 | E25: 17.16 | AG25: VV | AH25: 0
A26: 3 | B26: 139601103R00 | C26: Ruční výkop jam, rýh a šachet v hornině tř. 4 | D26: m3 | E26: 18.506 | G26: =ROUND(E26*F26,2) -> 0 | I26: =ROUND(E26*H26,2) -> 0 | K26: =ROUND(E26*J26,2) -> 0 | L26: 21 | M26: =G26*(1+L26/100) -> 0 | N26: 0 | O26: =ROUND(E26*N26,2) -> 0 | P26: 0 | Q26: =ROUND(E26*P26,2) -> 0 | S26: RTS 24/ I | T26: RTS 24/ I | U26: 4.66 | V26: =ROUND(E26*U26,2) -> 86.24 | X26: Práce | Y26: Běžná | AG26: POL1_
C27: - výkop v prostoru napojení, hornina tř. 4, voleno 20% výkopu rýh a jam | AG27: POP
C28: hloubení rýhy vodovod : (18,75*(1,50-0,10)+13,75*(1,50-0,40)+2,10*(1,50-0,25))*0,20 | E28: 8.8 | AG28: VV | AH28: 0
C29: hloubení rýhy splašková kanalizace : 10,80*(1,20-0,10)*0,20 | E29: 2.376 | AG29: VV | AH29: 0
C30: hloubení rýhy DK : 3,0*(1,20-0,10)*0,20 | E30: 0.66 | AG30: VV | AH30: 0
C31: hloubení rýhy NN : (5,0*(1,0-0,40)+20,50*(1,0-0,10))*0,20 | E31: 4.29 | AG31: VV | AH31: 0
C32: hloubení jám vodovod : 1,0*1,0*1,50*2*0,20 | E32: 0.6 | AG32: VV | AH32: 0
C33: hloubení jam splašková kanalizace : 1,0*1,0*1,20*2*0,20 | E33: 0.48 | AG33: VV | AH33: 0
C34: hloubení jam NN : 1,0*1,0*1,0*2*0,20 | E34: 0.4 | AG34: VV | AH34: 0
C35: hloubení vsakovacího objektu : 3,0*1,0*1,50*0,20 | E35: 0.9 | AG35: VV | AH35: 0
A36: 4 | B36: 130001101R00 | C36: Příplatek za ztížené hloubení v blízkosti vedení | D36: m3 | E36: 18.506 | G36: =ROUND(E36*F36,2) -> 0 | I36: =ROUND(E36*H36,2) -> 0 | K36: =ROUND(E36*J36,2) -> 0 | L36: 21 | M36: =G36*(1+L36/100) -> 0 | N36: 0 | O36: =ROUND(E36*N36,2) -> 0 | P36: 0 | Q36: =ROUND(E36*P36,2) -> 0 | S36: RTS 24/ I | T36: RTS 24/ I | U36: 1.76 | V36: =ROUND(E36*U36,2) -> 32.57 | X36: Práce | Y36: Běžná | AG36: POL1_
C37: - příplatek za hloubení rýhy v blízkosti ostatních IS | AG37: POP
A38: 5 | B38: 122307119R00 | C38: Příplatek za lepivost hornina 4 | D38: m3 | E38: 92.53 | G38: =ROUND(E38*F38,2) -> 0 | I38: =ROUND(E38*H38,2) -> 0 | K38: =ROUND(E38*J38,2) -> 0 | L38: 21 | M38: =G38*(1+L38/100) -> 0 | N38: 0 | O38: =ROUND(E38*N38,2) -> 0 | P38: 0 | Q38: =ROUND(E38*P38,2) -> 0 | S38: RTS 24/ I | T38: RTS 24/ I | U38: 0.04 | V38: =ROUND(E38*U38,2) -> 3.7 | X38: Práce | Y38: Běžná | AG38: POL1_
C39: - příplatek za lepivost horniny, výkop jam, rýh | AG39: POP
C40: hloubení jam : 9,52 | E40: 9.52 | AG40: VV | AH40: 0
C41: hloubení rýh : 64,504 | E41: 64.504 | AG41: VV | AH41: 0
C42: RV : 18,506 | E42: 18.506 | AG42: VV | AH42: 0
...

Sheet 002 003 Pol
A1: Položkový rozpočet | AG1: #TypZaznamu#
A2: S: | B2: 2404 | C2: Hygienické zařízení s přístupovou cestou | AG2: STA
A3: O: | B3: 002 | C3: Rozpočty stavby | AC3: STA | AG3: OBJ
A4: R: | B4: 003 | C4: Modulové automatické WC - cena dle výrobce | AG4: ROZ
A6: P.č. | B6: Číslo položky | C6: Název položky | D6: MJ | E6: Množství | F6: Cena / MJ | G6: Celkem | H6: Dodávka | I6: Dodávka celk. | J6: Montáž | K6: Montáž celk. | L6: DPH | M6: Cena s DPH | N6: Hmotnost / MJ | O6: Hmotnost celk.(t) | P6: Dem. hmotnost / MJ | Q6: Dem. hmotnost celk.(t) | R6: Ceník | S6: Cen. soustava / platnost | T6: Cenová úroveň | U6: Nhod / MJ | V6: Nhod celk. | W6: Dodavatel | X6: Typ položky | Y6: Stav položky
A8: Díl: | B8: 38 | C8: Kompletní konstrukce | G8: =SUMIF(AG9:AG11,"<>NOR",G9:G11) -> 0 | I8: =SUM(I9:I11) -> 0 | K8: =SUM(K9:K11) -> 0 | M8: =SUM(M9:M11) -> 0 | O8: =SUM(O9:O11) -> 0 | Q8: =SUM(Q9:Q11) -> 0 | V8: =SUM(V9:V11) -> 0 | AG8: DIL
A9: 1 | B9: 701001001 | C9: Modulové automatické WC o velikosti 6160 x 3160 mm | E9: 1 | G9: =ROUND(E9*F9,2) -> 0 | I9: =ROUND(E9*H9,2) -> 0 | K9: =ROUND(E9*J9,2) -> 0 | L9: 21 | M9: =G9*(1+L9/100) -> 0 | N9: 0 | O9: =ROUND(E9*N9,2) -> 0 | P9: 0 | Q9: =ROUND(E9*P9,2) -> 0 | S9: Vlastní | T9: Indiv | U9: 0 | V9: =ROUND(E9*U9,2) -> 0 | X9: Agregovaná položka | Y9: Běžná | AG9: POL2_
C10: - komplet dodávka objektu - modulového automatického WC o velikosti 6160 x 3160 mm dle PD, hlavně dle přílohy 03 - technické podklady. | AG10: POP | BA10: =C10 -> - komplet dodávka objektu - modulového automatického WC o velikosti 6160 x 3160 mm dle PD, hlavně dle přílohy 03 - technické podklady.
C11: - vč. osazení objektu, napojení na media, všech vnitřní konstrukcí a vybavení, vč. vybavení technické místnosti, revizní šachty atd. | AG11: POP | BA11: =C11 -> - vč. osazení objektu, napojení na media, všech vnitřní konstrukcí a vybavení, vč. vybavení technické místnosti, revizní šachty atd.
AE12: 12 | AF12: 21 | AG12: DPH
B13: Celkem | G13: =G8 -> 0 | AE13: =SUMIF(L7:L11,AE12,G7:G11) -> 0 | AF13: =SUMIF(L7:L11,AF12,G7:G11) -> 0 | AG13: SUM
A16: Poznámky uchazeče k zadání
AG17: POPUZIV
AG23: END
