Workbook
Name CelkemDPHVypocet: Stavba!$H$46
Name CenaCelkem: Stavba!$G$29
Name CenaCelkemBezDPH: Stavba!$G$28
Name CenaCelkemVypocet: Stavba!$I$46
Name cisloobjektu: Stavba!$D$3
Name CisloRozpoctu: '[1]Krycí list'!$C$2
Name CisloStavby: Stavba!$D$2
Name cislostavby: '[1]Krycí list'!$A$7
Name CisloStavebnihoRozpoctu: Stavba!$D$4
Name dadresa: Stavba!$D$12:$G$12
Name DIČ: Stavba!$I$12
Name dmisto: Stavba!$E$13:$G$13
Name DPHSni: Stavba!$G$24
Name DPHZakl: Stavba!$G$26
Name dpsc: Stavba!$D$13
Name IČO: Stavba!$I$11
Name Mena: Stavba!$J$29
Name MistoStavby: Stavba!$D$4
Name nazevobjektu: Stavba!$E$3
Name NazevRozpoctu: '[1]Krycí list'!$D$2
Name NazevStavby: Stavba!$E$2
Name nazevstavby: '[1]Krycí list'!$C$7
Name NazevStavebnihoRozpoctu: Stavba!$E$4
Name oadresa: Stavba!$D$6
Name Objednatel: Stavba!$D$5
Name Objekt: Stavba!$B$38
Name odic: Stavba!$I$6
Name oico: Stavba!$I$5
Name omisto: Stavba!$E$7
Name onazev: Stavba!$D$6
Name opsc: Stavba!$D$7
Name padresa: Stavba!$D$9
Name pdic: Stavba!$I$9
Name pico: Stavba!$I$8
Name pmisto: Stavba!$E$10
Name PocetMJ: #REF!
Name PoptavkaID: Stavba!$A$1
Name pPSC: Stavba!$D$10
Name Projektant: Stavba!$D$8
Name SazbaDPH1: Stavba!$E$23
Name SazbaDPH1: '[1]Krycí list'!$C$30
Name SazbaDPH2: Stavba!$E$25
Name SazbaDPH2: '[1]Krycí list'!$C$32
Name SloupecCC: #REF!
Name SloupecCisloPol: #REF!
Name SloupecJC: #REF!
Name SloupecMJ: #REF!
Name SloupecMnozstvi: #REF!
Name SloupecNazPol: #REF!
Name SloupecPC: #REF!
Name Vypracoval: Stavba!$D$14
Name ZakladDPHSni: Stavba!$G$23
Name ZakladDPHSniVypocet: Stavba!$F$46
Name ZakladDPHZakl: Stavba!$G$25
Name ZakladDPHZaklVypocet: Stavba!$G$46
Name ZaObjednatele: Stavba!$G$34
Name Zaokrouhleni: Stavba!$G$27
Name ZaZhotovitele: Stavba!$D$34
Name Zhotovitel: Stavba!$D$11:$G$11

Sheet Pokyny pro vyplnění
A1: Pokyny pro vyplnění
A2: Ve všech listech tohoto souboru můžete měnit pouze buňky s modrým pozadím. Jedná se o tyto údaje : - údaje o firmě - jednotkové ceny položek zadané na maximálně dvě desetinná místa

Sheet Stavba
A1: #RTSROZP# | B1: Položkový rozpočet stavby
B2: Stavba: | D2: 2404 | E2: Hygienické zařízení s přístupovou cestou
B5: Objednatel: | D5: Město Rýmařov | H5: IČO: | I5: 296317
D6: náměstí Míru 230/1 | H6: DIČ: | I6: CZ00296317
D7: 79501 | E7: Rýmařov
B8: Projektant: | H8: IČO:
H9: DIČ:
B11: Zhotovitel: | H11: IČO:
H12: DIČ:
B14: Vypracoval:
B15: Rozpis ceny | I15: Celkem
A16: HSV | B16: HSV | I16: =SUMIF(F60:F70,A16,I60:I70)+SUMIF(F60:F70,"PSU",I60:I70) -> 0
A17: PSV | B17: PSV | I17: =SUMIF(F60:F70,A17,I60:I70) -> 0
A18: MON | B18: MON | I18: =SUMIF(F60:F70,A18,I60:I70) -> 0
A19: VN | B19: Vedlejší náklady | I19: =SUMIF(F60:F70,A19,I60:I70) -> 0
A20: ON | B20: Ostatní náklady | I20: =SUMIF(F60:F70,A20,I60:I70) -> 0
B21: Celkem | I21: =SUM(I16:J20) -> 0
B22: Rekapitulace daní
A23: =ZakladDPHSni*SazbaDPH1/100 -> 0 | B23: Základ pro sníženou DPH | E23: 15 | F23: % | G23: =ZakladDPHSniVypocet -> 0 | J23: =Mena -> CZK
A24: =(A23-INT(A23))*100 -> 0 | B24: Snížená DPH | E24: =SazbaDPH1 -> 15 | F24: % | G24: =A23 -> 0 | J24: =Mena -> CZK
A25: =ZakladDPHZakl*SazbaDPH2/100 -> 0 | B25: Základ pro základní DPH | E25: 21 | F25: % | G25: =ZakladDPHZaklVypocet -> 0 | J25: =Mena -> CZK
A26: =(A25-INT(A25))*100 -> 0 | B26: Základní DPH | E26: =SazbaDPH2 -> 21 | F26: % | G26: =A25 -> 0 | J26: =Mena -> CZK
A27: =ZakladDPHSni+DPHSni+ZakladDPHZakl+DPHZakl -> 0 | B27: Zaokrouhlení | G27: =CenaCelkem-(ZakladDPHSni+DPHSni+ZakladDPHZakl+DPHZakl) -> 0 | J27: =Mena -> CZK
B28: Cena celkem bez DPH | G28: =ZakladDPHSniVypocet+ZakladDPHZaklVypocet -> 0 | J28: =Mena -> CZK
A29: =(A27-INT(A27))*100 -> 0 | B29: Cena celkem s DPH | G29: =A27 -> 0 | J29: CZK
C32: v | F32: dne
D35: Za zhotovitele | H35: Za objednatele
B37: Rekapitulace dílčích částí
A38: #CASTI>> | B38: Číslo | C38: Název | F38: =B23 -> Základ pro sníženou DPH | G38: =B25 -> Základ pro základní DPH | H38: DPH celkem | I38: Cena celkem | J38: %
A39: 1 | B39: Stavba | F39: ='001 001 Pol'!AE52+'002 001 Pol'!AE174+'002 002 Pol'!AE246+'002 003 Pol'!AE13 -> 0 | G39: ='001 001 Pol'!AF52+'002 001 Pol'!AF174+'002 002 Pol'!AF246+'002 003 Pol'!AF13 -> 0 | H39: =(F39*SazbaDPH1/100)+(G39*SazbaDPH2/100) -> 0 | I39: =F39+G39+H39 -> 0 | J39: =IF(_xlfn.SINGLE(CenaCelkemVypocet)=0,"",I39/_xlfn.SINGLE(CenaCelkemVypocet)*100) -> #NAME?
A40: 2 | B40: 001 | C40: Vedlejší a ostatní náklady | F40: ='001 001 Pol'!AE52 -> 0 | G40: ='001 001 Pol'!AF52 -> 0 | H40: =(F40*SazbaDPH1/100)+(G40*SazbaDPH2/100) -> 0 | I40: =F40+G40+H40 -> 0 | J40: =IF(_xlfn.SINGLE(CenaCelkemVypocet)=0,"",I40/_xlfn.SINGLE(CenaCelkemVypocet)*100) -> #NAME?
A41: 3 | B41: 001 | C41: VN + ON (cena indiv) | F41: ='001 001 Pol'!AE52 -> 0 | G41: ='001 001 Pol'!AF52 -> 0 | H41: =(F41*SazbaDPH1/100)+(G41*SazbaDPH2/100) -> 0 | I41: =F41+G41+H41 -> 0 | J41: =IF(_xlfn.SINGLE(CenaCelkemVypocet)=0,"",I41/_xlfn.SINGLE(CenaCelkemVypocet)*100) -> #NAME?
A42: 2 | B42: 002 | C42: Rozpočty stavby | F42: ='002 001 Pol'!AE174+'002 002 Pol'!AE246+'002 003 Pol'!AE13 -> 0 | G42: ='002 001 Pol'!AF174+'002 002 Pol'!AF246+'002 003 Pol'!AF13 -> 0 | H42: =(F42*SazbaDPH1/100)+(G42*SazbaDPH2/100) -> 0 | I42: =F42+G42+H42 -> 0 | J42: =IF(_xlfn.SINGLE(CenaCelkemVypocet)=0,"",I42/_xlfn.SINGLE(CenaCelkemVypocet)*100) -> #NAME?
A43: 3 | B43: 001 | C43: Zemní práce, zpevněné plochy - RTS I/2024 | F43: ='002 001 Pol'!AE174 -> 0 | G43: ='002 001 Pol'!AF174 -> 0 | H43: =(F43*SazbaDPH1/100)+(G43*SazbaDPH2/100) -> 0 | I43: =F43+G43+H43 -> 0 | J43: =IF(_xlfn.SINGLE(CenaCelkemVypocet)=0,"",I43/_xlfn.SINGLE(CenaCelkemVypocet)*100) -> #NAME?
A44: 3 | B44: 002 | C44: Přípojka vodovodu, splaškové kanalizace, NN, dešťové kanalizace - RTS I/2024 | F44: ='002 002 Pol'!AE246 -> 0 | G44: ='002 002 Pol'!AF246 -> 0 | H44: =(F44*SazbaDPH1/100)+(G44*SazbaDPH2/100) -> 0 | I44: =F44+G44+H44 -> 0 | J44: =IF(_xlfn.SINGLE(CenaCelkemVypocet)=0,"",I44/_xlfn.SINGLE(CenaCelkemVypocet)*100) -> #NAME?
A45: 3 | B45: 003 | C45: Modulové automatické WC - cena dle výrobce | F45: ='002 003 Pol'!AE13 -> 0 | G45: ='002 003 Pol'!AF13 -> 0 | H45: =(F45*SazbaDPH1/100)+(G45*SazbaDPH2/100) -> 0 | I45: =F45+G45+H45 -> 0 | J45: =IF(_xlfn.SINGLE(CenaCelkemVypocet)=0,"",I45/_xlfn.SINGLE(CenaCelkemVypocet)*100) -> #NAME?
B46: Celkem za stavbu | F46: =SUMIF(A39:A45,"=1",F39:F45) -> 0 | G46: =SUMIF(A39:A45,"=1",G39:G45) -> 0 | H46: =SUMIF(A39:A45,"=1",H39:H45) -> 0 | I46: =SUMIF(A39:A45,"=1",I39:I45) -> 0 | J46: =SUMIF(A39:A45,"=1",J39:J45) -> #NAME?
A48: #POPS | B48: Popis stavby: 2404 - Hygienické zařízení s přístupovou cestou
A49: #POPO | B49: Popis objektu: 001 - Vedlejší a ostatní náklady
A50: #POPR | B50: Popis rozpočtu: 001 - VN + ON (cena indiv)
A51: #POPO | B51: Popis objektu: 002 - Rozpočty stavby
A52: #POPR | B52: Popis rozpočtu: 001 - Zemní práce, zpevněné plochy - RTS I/2024
A53: #POPR | B53: Popis rozpočtu: 002 - Přípojka vodovodu, splaškové kanalizace, NN, dešťové kanalizace - RTS I/2024
A54: #POPR | B54: Popis rozpočtu: 003 - Modulové automatické WC - cena dle výrobce
B57: Rekapitulace dílů
B59: Číslo | C59: Název | F59: Typ dílu | I59: Celkem | J59: %
B60: 1 | C60: Zemní práce | F60: HSV | I60: ='002 001 Pol'!G8+'002 002 Pol'!G8 -> 0 | J60: =IF(I71=0,"",I60/I71*100)
B61: 2 | C61: Základy a zvláštní zakládání | F61: HSV | I61: ='002 001 Pol'!G57 -> 0 | J61: =IF(I71=0,"",I61/I71*100)
B62: 38 | C62: Kompletní konstrukce | F62: HSV | I62: ='002 003 Pol'!G8 -> 0 | J62: =IF(I71=0,"",I62/I71*100)
B63: 5 | C63: Komunikace | F63: HSV | I63: ='002 001 Pol'!G62+'002 001 Pol'!G121 -> 0 | J63: =IF(I71=0,"",I63/I71*100)
B64: 8 | C64: Trubní vedení | F64: HSV | I64: ='002 002 Pol'!G107 -> 0 | J64: =IF(I71=0,"",I64/I71*100)
B65: 91 | C65: Doplňující práce na komunikaci | F65: HSV | I65: ='002 001 Pol'!G117+'002 001 Pol'!G125 -> 0 | J65: =IF(I71=0,"",I65/I71*100)
B66: 99 | C66: Staveništní přesun hmot | F66: HSV | I66: ='002 001 Pol'!G138+'002 002 Pol'!G241 -> 0 | J66: =IF(I71=0,"",I66/I71*100)
B67: M21 | C67: Elektromontáže | F67: MON | I67: ='002 002 Pol'!G212 -> 0 | J67: =IF(I71=0,"",I67/I71*100)
B68: D96 | C68: Přesuny suti a vybouraných hmot | F68: PSU | I68: ='002 001 Pol'!G140+'002 002 Pol'!G224 -> 0 | J68: =IF(I71=0,"",I68/I71*100)
B69: VN | C69: Vedlejší náklady | F69: VN | I69: ='001 001 Pol'!G8 -> 0 | J69: =IF(I71=0,"",I69/I71*100)
B70: ON | C70: Ostatní náklady | F70: ON | I70: ='001 001 Pol'!G24 -> 0 | J70: =IF(I71=0,"",I70/I71*100)
B71: Cena celkem | I71: =SUM(I60:I70) -> 0 | J71: =SUM(J60:J70) -> 0

Sheet VzorPolozky
A1: Položkový rozpočet
A2: S:
A3: O:
A4: R:

Sheet 001 001 Pol
A1: Položkový rozpočet | AG1: #TypZaznamu#
A2: S: | B2: 2404 | C2: Hygienické zařízení s přístupovou cestou | AG2: STA
A3: O: | B3: 001 | C3: Vedlejší a ostatní náklady | AC3: STA | AG3: OBJ
A4: R: | B4: 001 | C4: VN + ON (cena indiv) | AG4: ROZ
A6: P.č. | B6: Číslo položky | C6: Název položky | D6: MJ | E6: Množství | F6: Cena / MJ | G6: Celkem | H6: Dodávka | I6: Dodávka celk. | J6: Montáž | K6: Montáž celk. | L6: DPH | M6: Cena s DPH | N6: Hmotnost / MJ | O6: Hmotnost celk.(t) | P6: Dem. hmotnost / MJ | Q6: Dem. hmotnost celk.(t) | R6: Ceník | S6: Cen. soustava / platnost | T6: Cenová úroveň | U6: Nhod / MJ | V6: Nhod celk. | W6: Dodavatel | X6: Typ položky | Y6: Stav položky
A8: Díl: | B8: VN | C8: Vedlejší náklady | G8: =SUMIF(AG9:AG23,"<>NOR",G9:G23) -> 0 | I8: =SUM(I9:I23) -> 0 | K8: =SUM(K9:K23) -> 0 | M8: =SUM(M9:M23) -> 0 | O8: =SUM(O9:O23) -> 0 | Q8: =SUM(Q9:Q23) -> 0 | V8: =SUM(V9:V23) -> 0 | AG8: DIL
A9: 1 | B9: 005121010R | C9: Vybudování zařízení staveniště | D9: Soubor | E9: 1 | G9: =ROUND(E9*F9,2) -> 0 | I9: =ROUND(E9*H9,2) -> 0 | K9: =ROUND(E9*J9,2) -> 0 | L9: 21 | M9: =G9*(1+L9/100) -> 0 | N9: 0 | O9: =ROUND(E9*N9,2) -> 0 | P9: 0 | Q9: =ROUND(E9*P9,2) -> 0 | S9: RTS 24/ I | T9: Indiv | U9: 0 | V9: =ROUND(E9*U9,2) -> 0 | X9: VRN | Y9: Běžná | AG9: POL99_8
C10: - náklady spojené se zřízením přípojek energií k objektům zařízení staveniště, vybudování případných měřících odběrných míst a zřízení, případná příprava území pro objekty zařízení staveniště a vlastní vybudování objektů zařízení staveniště. | AG10: POP | BA10: =C10 -> - náklady spojené se zřízením přípojek energií k objektům zařízení staveniště, vybudování případných měřících odběrných míst a zřízení, případná příprava území pro objekty zařízení staveniště a vlastní vybudování objektů zařízení staveniště.
A11: 2 | B11: 005121020R | C11: Provoz zařízení staveniště | D11: Soubor | E11: 1 | G11: =ROUND(E11*F11,2) -> 0 | I11: =ROUND(E11*H11,2) -> 0 | K11: =ROUND(E11*J11,2) -> 0 | L11: 21 | M11: =G11*(1+L11/100) -> 0 | N11: 0 | O11: =ROUND(E11*N11,2) -> 0 | P11: 0 | Q11: =ROUND(E11*P11,2) -> 0 | S11: RTS 24/ I | T11: Indiv | U11: 0 | V11: =ROUND(E11*U11,2) -> 0 | X11: VRN | Y11: Běžná | AG11: POL99_8
C12: - náklady na vybavení objektů zařízení staveniště, ostraha staveniště, náklady na energie spotřebované dodavatelem v rámci provozu zařízení staveniště, náklady na potřebný úklid v prostorách zařízení staveniště, náklady na nutnou údržbu a opravy na objektech zařízení staveniště a na přípojkách energií. | AG12: POP | BA12: =C12 -> - náklady na vybavení objektů zařízení staveniště, ostraha staveniště, náklady na energie spotřebované dodavatelem v rámci provozu zařízení staveniště, náklady na potřebný úklid v prostorách zařízení staveniště, náklady na nutnou údržbu a opravy na objektech zařízení staveniště a na přípojkách energií.
A13: 3 | B13: 005121030R | C13: Odstranění zařízení staveniště | D13: Soubor | E13: 1 | G13: =ROUND(E13*F13,2) -> 0 | I13: =ROUND(E13*H13,2) -> 0 | K13: =ROUND(E13*J13,2) -> 0 | L13: 21 | M13: =G13*(1+L13/100) -> 0 | N13: 0 | O13: =ROUND(E13*N13,2) -> 0 | P13: 0 | Q13: =ROUND(E13*P13,2) -> 0 | S13: RTS 24/ I | T13: Indiv | U13: 0 | V13: =ROUND(E13*U13,2) -> 0 | X13: VRN | Y13: Běžná | AG13: POL99_8
C14: - odstranění objektů zařízení staveniště včetně přípojek energií a jejich odvoz. Položka zahrnuje i náklady na úpravu povrchů po odstranění zařízení staveniště a úklid ploch, na kterých bylo zařízení staveniště provozováno. | AG14: POP | BA14: =C14 -> - odstranění objektů zařízení staveniště včetně přípojek energií a jejich odvoz. Položka zahrnuje i náklady na úpravu povrchů po odstranění zařízení staveniště a úklid ploch, na kterých bylo zařízení staveniště provozováno.
A15: 4 | B15: 02946OA0 | C15: Fotodokumentace stavby | D15: soubor | E15: 1 | G15: =ROUND(E15*F15,2) -> 0 | I15: =ROUND(E15*H15,2) -> 0 | K15: =ROUND(E15*J15,2) -> 0 | L15: 21 | M15: =G15*(1+L15/100) -> 0 | N15: 0 | O15: =ROUND(E15*N15,2) -> 0 | P15: 0 | Q15: =ROUND(E15*P15,2) -> 0 | S15: RTS 24/ I | T15: Indiv | U15: 0 | V15: =ROUND(E15*U15,2) -> 0 | X15: Agregovaná položka | Y15: Běžná | AG15: POL2_
C16: - dodavatel zajistí zpracování fotodokumentace průběhu prací na stavbě, kterou následně předá investorovi. Fotodokumentace bude dokladovat postup prací po jednotlivých dnech, nasazení stavebních mechanismů i provádění zkoušek. Snímky budou předány na CD ve složkách pojmenovaných dle jednotlivých dnů. | AG16: POP | BA16: =C16 -> - dodavatel zajistí zpracování fotodokumentace průběhu prací na stavbě, kterou následně předá investorovi. Fotodokumentace bude dokladovat postup prací po jednotlivých dnech, nasazení stavebních mechanismů i provádění zkoušek. Snímky budou předány na CD ve složkách pojmenovaných dle jednotlivých dnů.
A17: 5 | B17: VNP1 | C17: Náklady vzniklé v souvislosti s realizací stavby | D17: soubor | E17: 1 | G17: =ROUND(E17*F17,2) -> 0 | I17: =ROUND(E17*H17,2) -> 0 | K17: =ROUND(E17*J17,2) -> 0 | L17: 21 | M17: =G17*(1+L17/100) -> 0 | N17: 0 | O17: =ROUND(E17*N17,2) -> 0 | P17: 0 | Q17: =ROUND(E17*P17,2) -> 0 | S17: Vlastní | T17: Indiv | U17: 0 | V17: =ROUND(E17*U17,2) -> 0 | X17: VRN | Y17: Běžná | AG17: POL99_8
C18: - náklady související s případným zásahem do silničních pozemků | AG18: POP
C19: - průběžné čištění znečištěných komunikací stavbou | AG19: POP
C20: - zajištění zpětného předání dotčených ploch jednotlivým majitelům a správcům | AG20: POP
C21: - zajištění obslužného provozu - zásobování, svoz kom. odpadu, vjezd vozidel složek integrovaného záchranného systému | AG21: POP | BA21: =C21 -> - zajištění obslužného provozu - zásobování, svoz kom. odpadu, vjezd vozidel složek integrovaného záchranného systému
C22: - zajištění výkopů (zábradlí) a přístupů k objektům (lávky, budou využity dle postupu výstavby vždy v dotčeném prostoru) | AG22: POP | BA22: =C22 -> - zajištění výkopů (zábradlí) a přístupů k objektům (lávky, budou využity dle postupu výstavby vždy v dotčeném prostoru)
C23: - koordinace prací na stavbě a tvorba harmonogramu výstavby | AG23: POP
A24: Díl: | B24: ON | C24: Ostatní náklady | G24: =SUMIF(AG25:AG50,"<>NOR",G25:G50) -> 0 | I24: =SUM(I25:I50) -> 0 | K24: =SUM(K25:K50) -> 0 | M24: =SUM(M25:M50) -> 0 | O24: =SUM(O25:O50) -> 0 | Q24: =SUM(Q25:Q50) -> 0 | V24: =SUM(V25:V50) -> 0 | AG24: DIL
A25: 6 | B25: 005211030R | C25: Dočasná dopravní opatření, vyznačení stavby | D25: Soubor | E25: 1 | G25: =ROUND(E25*F25,2) -> 0 | I25: =ROUND(E25*H25,2) -> 0 | K25: =ROUND(E25*J25,2) -> 0 | L25: 21 | M25: =G25*(1+L25/100) -> 0 | N25: 0 | O25: =ROUND(E25*N25,2) -> 0 | P25: 0 | Q25: =ROUND(E25*P25,2) -> 0 | S25: RTS 24/ I | T25: Indiv | U25: 0 | V25: =ROUND(E25*U25,2) -> 0 | X25: VRN | Y25: Běžná | AG25: POL99_8
C26: - náklady na zabezpečení stavby proti vstupu třetích osob, vyznačení stavby po celou dobu trvání mobilním oplocením apod., rozmístění a přemísťování oplocení a jeho údržba v průběhu výstavby včetně následného odstranění po ukončení stavebních prací | AG26: POP | BA26: =C26 -> - náklady na zabezpečení stavby proti vstupu třetích osob, vyznačení stavby po celou dobu trvání mobilním oplocením apod., rozmístění a přemísťování oplocení a jeho údržba v průběhu výstavby včetně následného odstranění po ukončení stavebních prací
C27: - náklady na dopravní opatření - v případě potřeby vyznačení stavby na pozemních komunikacích | AG27: POP
A28: 7 | B28: 005111020R | C28: Vytyčení stavby | D28: Soubor | E28: 1 | G28: =ROUND(E28*F28,2) -> 0 | I28: =ROUND(E28*H28,2) -> 0 | K28: =ROUND(E28*J28,2) -> 0 | L28: 21 | M28: =G28*(1+L28/100) -> 0 | N28: 0 | O28: =ROUND(E28*N28,2) -> 0 | P28: 0 | Q28: =ROUND(E28*P28,2) -> 0 | S28: RTS 24/ I | T28: Indiv | U28: 0 | V28: =ROUND(E28*U28,2) -> 0 | X28: VRN | Y28: Běžná | AG28: POL99_8
C29: - geodetické práce související s výstavbou | AG29: POP
C30: - vyhotovení protokolu o vytyčení stavby se seznamem souřadnic vytyčených bodů a jejich polohopisnými (S-JTSK) a výškopisnými (Bpv) hodnotami. | AG30: POP | BA30: =C30 -> - vyhotovení protokolu o vytyčení stavby se seznamem souřadnic vytyčených bodů a jejich polohopisnými (S-JTSK) a výškopisnými (Bpv) hodnotami.
A31: 8 | B31: 005111021R | C31: Vytyčení inženýrských sítí | D31: Soubor | E31: 1 | G31: =ROUND(E31*F31,2) -> 0 | I31: =ROUND(E31*H31,2) -> 0 | K31: =ROUND(E31*J31,2) -> 0 | L31: 21 | M31: =G31*(1+L31/100) -> 0 | N31: 0 | O31: =ROUND(E31*N31,2) -> 0 | P31: 0 | Q31: =ROUND(E31*P31,2) -> 0 | S31: RTS 24/ I | T31: Indiv | U31: 0 | V31: =ROUND(E31*U31,2) -> 0 | X31: VRN | Y31: Běžná | AG31: POL99_8
C32: - zaměření a vytýčení stávajících inženýrských sítí v místě stavby z hlediska jejich ochrany při provádění stavby. | AG32: POP | BA32: =C32 -> - zaměření a vytýčení stávajících inženýrských sítí v místě stavby z hlediska jejich ochrany při provádění stavby.
A33: 9 | B33: 005211020R | C33: Ochrana stávaj. inženýrských sítí na staveništi | D33: Soubor | E33: 1 | G33: =ROUND(E33*F33,2) -> 0 | I33: =ROUND(E33*H33,2) -> 0 | K33: =ROUND(E33*J33,2) -> 0 | L33: 21 | M33: =G33*(1+L33/100) -> 0 | N33: 0 | O33: =ROUND(E33*N33,2) -> 0 | P33: 0 | Q33: =ROUND(E33*P33,2) -> 0 | S33: RTS 24/ I | T33: Indiv | U33: 0 | V33: =ROUND(E33*U33,2) -> 0 | X33: VRN | Y33: Běžná | AG33: POL99_8
C34: - náklady na přezkoumání podkladů objednatele o stavu inženýrských sítí probíhajících staveništěm nebo dotčenými stavbou i mimo území staveniště, kontrola vytýčení jejich skutečné trasy a provedení ochranných opatření pro zabezpečení stávajících inženýrských sítí. | AG34: POP | BA34: =C34 -> - náklady na přezkoumání podkladů objednatele o stavu inženýrských sítí probíhajících staveništěm nebo dotčenými stavbou i mimo území staveniště, kontrola vytýčení jejich skutečné trasy a provedení ochranných opatření pro zabezpečení stávajících inženýrských sítí.
A35: 10 | B35: 005241020R | C35: Geodetické zaměření skutečného provedení | D35: Soubor | E35: 1 | G35: =ROUND(E35*F35,2) -> 0 | I35: =ROUND(E35*H35,2) -> 0 | K35: =ROUND(E35*J35,2) -> 0 | L35: 21 | M35: =G35*(1+L35/100) -> 0 | N35: 0 | O35: =ROUND(E35*N35,2) -> 0 | P35: 0 | Q35: =ROUND(E35*P35,2) -> 0 | S35: RTS 24/ I | T35: Indiv | U35: 0 | V35: =ROUND(E35*U35,2) -> 0 | X35: VRN | Y35: Běžná | AG35: POL99_8
C36: - geodetické zaměření skutečného stavu jednotlivých objektů oprávněnou osobou (tiskopis v graf. formě 3x, v digitální formě 1x, všech objektů stavby) | AG36: POP | BA36: =C36 -> - geodetické zaměření skutečného stavu jednotlivých objektů oprávněnou osobou (tiskopis v graf. formě 3x, v digitální formě 1x, všech objektů stavby)
C37: - doklady ke kolaudaci, revizní zprávy jsou-li vyžadovány | AG37: POP
A38: 11 | B38: 00511 R | C38: Geodetické práce | D38: Soubor | E38: 1 | G38: =ROUND(E38*F38,2) -> 0 | I38: =ROUND(E38*H38,2) -> 0 | K38: =ROUND(E38*J38,2) -> 0 | L38: 21 | M38: =G38*(1+L38/100) -> 0 | N38: 0 | O38: =ROUND(E38*N38,2) -> 0 | P38: 0 | Q38: =ROUND(E38*P38,2) -> 0 | S38: RTS 24/ I | T38: Indiv | U38: 0 | V38: =ROUND(E38*U38,2) -> 0 | X38: VRN | Y38: Běžná | AG38: POL99_8
C39: - vypracování geometrického plánu stavby | AG39: POP
C40: - přípravu podkladů, podání žádosti na katastrální úřad | AG40: POP
C41: - polní práce spojené s vyhotovením geometrického plánu | AG41: POP
C42: - výpočetní a grafické kancelářské práce | AG42: POP
C43: - úřední ověření výsledného elaborátu | AG43: POP
C44: - schválení návrhu vkladu do katastru nemovitostí příslušným katastrálním úřadem | AG44: POP
A45: 12 | B45: ONP1 | C45: Statická zatěžovací zkouška | D45: ks | E45: 2 | G45: =ROUND(E45*F45,2) -> 0 | I45: =ROUND(E45*H45,2) -> 0 | K45: =ROUND(E45*J45,2) -> 0 | L45: 21 | M45: =G45*(1+L45/100) -> 0 | N45: 0 | O45: =ROUND(E45*N45,2) -> 0 | P45: 0 | Q45: =ROUND(E45*P45,2) -> 0 | S45: Vlastní | T45: Indiv | U45: 0 | V45: =ROUND(E45*U45,2) -> 0 | X45: Práce | Y45: Běžná | AG45: POL1_
C46: - statická zatěžovací zkouška dle ČSN 736190 a ČSN 72 1006 | AG46: POP
C47: - provádění v rámci jednotlivých objektů stavby, celkový odhad, provádění dle potřeby stavby | AG47: POP
A48: 13 | B48: ONP2 | C48: Rázová zatěžovací zkouška | D48: ks | E48: 6 | G48: =ROUND(E48*F48,2) -> 0 | I48: =ROUND(E48*H48,2) -> 0 | K48: =ROUND(E48*J48,2) -> 0 | L48: 21 | M48: =G48*(1+L48/100) -> 0 | N48: 0 | O48: =ROUND(E48*N48,2) -> 0 | P48: 0 | Q48: =ROUND(E48*P48,2) -> 0 | S48: Vlastní | T48: Indiv | U48: 0 | V48: =ROUND(E48*U48,2) -> 0 | X48: Práce | Y48: Běžná | AG48: POL1_
C49: -rázová zatěžovací zkouška dle ČSN 736192 a ČSN 72 1006 | AG49: POP
C50: - provádění v rámci jednotlivých objektů stavby, celkový odhad, provádění dle potřeby stavby | AG50: POP
AE51: 15 | AF51: 21 | AG51: DPH
B52: Celkem | G52: =G8+G24 -> 0 | AE52: =SUMIF(L7:L50,AE51,G7:G50) -> 0 | AF52: =SUMIF(L7:L50,AF51,G7:G50) -> 0 | AG52: SUM
A55: Poznámky uchazeče k zadání
AG56: POPUZIV
AG62: END

Sheet 002 001 Pol
A1: Položkový rozpočet | AG1: #TypZaznamu#
A2: S: | B2: 2404 | C2: Hygienické zařízení s přístupovou cestou | AG2: STA
A3: O: | B3: 002 | C3: Rozpočty stavby | AC3: STA | AG3: OBJ
A4: R: | B4: 001 | C4: Zemní práce, zpevněné plochy - RTS I/2024 | AG4: ROZ
A6: P.č. | B6: Číslo položky | C6: Název položky | D6: MJ | E6: Množství | F6: Cena / MJ | G6: Celkem | H6: Dodávka | I6: Dodávka celk. | J6: Montáž | K6: Montáž celk. | L6: DPH | M6: Cena s DPH | N6: Hmotnost / MJ | O6: Hmotnost celk.(t) | P6: Dem. hmotnost / MJ | Q6: Dem. hmotnost celk.(t) | R6: Ceník | S6: Cen. soustava / platnost | T6: Cenová úroveň | U6: Nhod / MJ | V6: Nhod celk. | W6: Dodavatel | X6: Typ položky | Y6: Stav položky
A8: Díl: | B8: 1 | C8: Zemní práce | G8: =SUMIF(AG9:AG56,"<>NOR",G9:G56) -> 0 | I8: =SUM(I9:I56) -> 0 | K8: =SUM(K9:K56) -> 0 | M8: =SUM(M9:M56) -> 0 | O8: =SUM(O9:O56) -> 0 | Q8: =SUM(Q9:Q56) -> 36.29 | V8: =SUM(V9:V56) -> 81.97 | AG8: DIL
A9: 1 | B9: 121100002RAA | C9: Sejmutí ornice a uložení na deponii zpětný přesun, rozprostření v tl. 20 cm | D9: m3 | E9: 21.218 | G9: =ROUND(E9*F9,2) -> 0 | I9: =ROUND(E9*H9,2) -> 0 | K9: =ROUND(E9*J9,2) -> 0 | L9: 21 | M9: =G9*(1+L9/100) -> 0 | N9: 0 | O9: =ROUND(E9*N9,2) -> 0 | P9: 0 | Q9: =ROUND(E9*P9,2) -> 0 | S9: RTS 24/ I | T9: RTS 24/ I | U9: 0 | V9: =ROUND(E9*U9,2) -> 0 | X9: Agregovaná položka | Y9: Běžná | AG9: POL2_
C10: - v plochách zeleně dotčených stavbou, sejmutí ornice v tl. 100 mm | AG10: POP
C11: - mezideponie vzdálena do 1,0 km | AG11: POP
C12: - ornice bude sejmuta, uskladněna na meziskládce a následně zpětně přesunuta a rozprostřena | AG12: POP
C13: - přebytečbá ornice bude rozhrnuta na pozemcích investora pro zlepšení vegetačního pokryvu, či uložena dle jeho pokynů | AG13: POP | BA13: =C13 -> - přebytečbá ornice bude rozhrnuta na pozemcích investora pro zlepšení vegetačního pokryvu, či uložena dle jeho pokynů
C14: sejmutí ornice : ((18,75+10,80+20,50+3,0)*2,0+9,30*6,85+3,65*7,5+5,0*3,0)*0,1 | E14: 21.218 | AG14: VV | AH14: 0
A15: 2 | B15: 111201101R00 | C15: Odstranění křovin i s kořeny na ploše do 1000 m2 | D15: m2 | E15: 30 | G15: =ROUND(E15*F15,2) -> 0 | I15: =ROUND(E15*H15,2) -> 0 | K15: =ROUND(E15*J15,2) -> 0 | L15: 21 | M15: =G15*(1+L15/100) -> 0 | N15: 0 | O15: =ROUND(E15*N15,2) -> 0 | P15: 0 | Q15: =ROUND(E15*P15,2) -> 0 | S15: RTS 24/ I | T15: RTS 24/ I | U15: 0.17 | V15: =ROUND(E15*U15,2) -> 5.1 | X15: Práce | Y15: Běžná | AG15: POL1_
C16: - odstranění křovin v kolizi z konstrukce stavby, vč. přemístění do 3,0 km dle pokynů stavebníka | AG16: POP
C17: 2,0*15,0 | E17: 30 | AG17: VV | AH17: 0
A18: 3 | B18: 182201101R00 | C18: Svahování násypů / zářezů | D18: m2 | E18: 32.1 | G18: =ROUND(E18*F18,2) -> 0 | I18: =ROUND(E18*H18,2) -> 0 | K18: =ROUND(E18*J18,2) -> 0 | L18: 21 | M18: =G18*(1+L18/100) -> 0 | N18: 0 | O18: =ROUND(E18*N18,2) -> 0 | P18: 0 | Q18: =ROUND(E18*P18,2) -> 0 | S18: RTS 24/ I | T18: RTS 24/ I | U18: 0.11 | V18: =ROUND(E18*U18,2) -> 3.53 | X18: Práce | Y18: Běžná | AG18: POL1_
C19: - úprava svahování okolo buňky WC | AG19: POP
C20: 9,30*2*1,0+6,75*2*1,0 | E20: 32.1 | AG20: VV | AH20: 0
A21: 4 | B21: 113108309R00 | C21: Odstranění asfaltové vrstvy pl. do 50 m2, tl. 9 cm | D21: m2 | E21: 32 | G21: =ROUND(E21*F21,2) -> 0 | I21: =ROUND(E21*H21,2) -> 0 | K21: =ROUND(E21*J21,2) -> 0 | L21: 21 | M21: =G21*(1+L21/100) -> 0 | N21: 0 | O21: =ROUND(E21*N21,2) -> 0 | P21: 0.198 | Q21: =ROUND(E21*P21,2) -> 6.34 | S21: RTS 24/ I | T21: RTS 24/ I | U21: 0.34 | V21: =ROUND(E21*U21,2) -> 10.88 | X21: Práce | Y21: Běžná | AG21: POL1_
C22: - odstranění asf. v prostoru provádění sítí | AG22: POP
C23: (11,0+5,0)*2,0 | E23: 32 | AG23: VV | AH23: 0
A24: 5 | B24: 113106212R00 | C24: Rozebrání dlažeb z velkých kostek v živici / betonu | D24: m2 | E24: 2.5 | G24: =ROUND(E24*F24,2) -> 0 | I24: =ROUND(E24*H24,2) -> 0 | K24: =ROUND(E24*J24,2) -> 0 | L24: 21 | M24: =G24*(1+L24/100) -> 0 | N24: 0 | O24: =ROUND(E24*N24,2) -> 0 | P24: 0.505 | Q24: =ROUND(E24*P24,2) -> 1.26 | S24: RTS 24/ I | T24: RTS 24/ I | U24: 0.18 | V24: =ROUND(E24*U24,2) -> 0.45 | X24: Práce | Y24: Běžná | AG24: POL1_
C25: - rozebrání kostek dvojřádku - v prostoru provádění sítí | AG25: POP
C26: (2,0*3+2,0*2)*0,25 | E26: 2.5 | AG26: VV | AH26: 0
A27: 6 | B27: 979071112R00 | C27: Očištění vybour. kostek velkých s výplní MC/živicí | D27: m2 | E27: 2.5 | G27: =ROUND(E27*F27,2) -> 0 | I27: =ROUND(E27*H27,2) -> 0 | K27: =ROUND(E27*J27,2) -> 0 | L27: 21 | M27: =G27*(1+L27/100) -> 0 | N27: 0 | O27: =ROUND(E27*N27,2) -> 0 | P27: 0 | Q27: =ROUND(E27*P27,2) -> 0 | S27: RTS 24/ I | T27: RTS 24/ I | U27: 0.22 | V27: =ROUND(E27*U27,2) -> 0.55 | X27: Práce | Y27: Běžná | AG27: POL1_
C28: - očištění vybouraných kostek pro další použití | AG28: POP
A29: 7 | B29: 113106211R00 | C29: Rozebrání dlažeb z velkých kostek v kam. těženém | D29: m2 | E29: 5.5 | G29: =ROUND(E29*F29,2) -> 0 | I29: =ROUND(E29*H29,2) -> 0 | K29: =ROUND(E29*J29,2) -> 0 | L29: 21 | M29: =G29*(1+L29/100) -> 0 | N29: 0 | O29: =ROUND(E29*N29,2) -> 0 | P29: 0.417 | Q29: =ROUND(E29*P29,2) -> 2.29 | S29: RTS 24/ I | T29: RTS 24/ I | U29: 0.13 | V29: =ROUND(E29*U29,2) -> 0.72 | X29: Práce | Y29: Běžná | AG29: POL1_
C30: - rozebrání povrchu parkovací plochy v prostoru provádění sítí | AG30: POP
C31: 2,0*2,75 | E31: 5.5 | AG31: VV | AH31: 0
A32: 8 | B32: 979071111R00 | C32: Očištění vybour. kostek velkých s výplní kam. těž. | D32: m2 | E32: 5.5 | G32: =ROUND(E32*F32,2) -> 0 | I32: =ROUND(E32*H32,2) -> 0 | K32: =ROUND(E32*J32,2) -> 0 | L32: 21 | M32: =G32*(1+L32/100) -> 0 | N32: 0 | O32: =ROUND(E32*N32,2) -> 0 | P32: 0 | Q32: =ROUND(E32*P32,2) -> 0 | S32: RTS 24/ I | T32: RTS 24/ I | U32: 0.09 | V32: =ROUND(E32*U32,2) -> 0.5 | X32: Práce | Y32: Běžná | AG32: POL1_
C33: - očištění rozebraných kostek parkovacích stání | AG33: POP
A34: 9 | B34: 113107530R00 | C34: Odstranění podkladu pl. 50 m2,kam.drcené tl.30 cm | D34: m2 | E34: 40 | G34: =ROUND(E34*F34,2) -> 0 | I34: =ROUND(E34*H34,2) -> 0 | K34: =ROUND(E34*J34,2) -> 0 | L34: 21 | M34: =G34*(1+L34/100) -> 0 | N34: 0 | O34: =ROUND(E34*N34,2) -> 0 | P34: 0.66 | Q34: =ROUND(E34*P34,2) -> 26.4 | S34: RTS 24/ I | T34: RTS 24/ I | U34: 1.05 | V34: =ROUND(E34*U34,2) -> 42 | X34: Práce | Y34: Běžná | AG34: POL1_
C35: - odstranění podkladu stávající komunikace v prostoru provádění sítí, tl. 0,30 m | AG35: POP
C36: komunikace : (11,0+5,0)*2 | E36: 32 | AG36: VV | AH36: 0
C37: dvojřádek : 2,50 | E37: 2.5 | AG37: VV | AH37: 0
C38: parkovací plocha : 5,50 | E38: 5.5 | AG38: VV | AH38: 0
A39: 10 | B39: 122302201R00 | C39: Odkopávky pro silnice v hor. 4 do 100 m3 | D39: m3 | E39: 5.325 | G39: =ROUND(E39*F39,2) -> 0 | I39: =ROUND(E39*H39,2) -> 0 | K39: =ROUND(E39*J39,2) -> 0 | L39: 21 | M39: =G39*(1+L39/100) -> 0 | N39: 0 | O39: =ROUND(E39*N39,2) -> 0 | P39: 0 | Q39: =ROUND(E39*P39,2) -> 0 | S39: RTS 24/ I | T39: RTS 18/ II | U39: 0.818 | V39: =ROUND(E39*U39,2) -> 4.36 | X39: Práce | Y39: Běžná | AG39: POL1_
C40: - odkopávky pro možnot provedení povrchu a podkladů chodníku | AG40: POP
C41: 35,50*(0,25-0,10) | E41: 5.325 | AG41: VV | AH41: 0
A42: 11 | B42: 131301201R00 | C42: Hloubení zapažených jam v hor.4 do 100 m3 | D42: m3 | E42: 2.25 | G42: =ROUND(E42*F42,2) -> 0 | I42: =ROUND(E42*H42,2) -> 0 | K42: =ROUND(E42*J42,2) -> 0 | L42: 21 | M42: =G42*(1+L42/100) -> 0 | N42: 0 | O42: =ROUND(E42*N42,2) -> 0 | P42: 0 | Q42: =ROUND(E42*P42,2) -> 0 | S42: RTS 24/ I | T42: RTS 24/ I | U42: 2.97 | V42: =ROUND(E42*U42,2) -> 6.68 | X42: Práce | Y42: Běžná | AG42: POL1_
C43: Hloubení jam, předpoklad výkopu v hor. 4, hloubení jámy pro revizní šachtu v technické místnosti buňky | AG43: POP | BA43: =C43 -> Hloubení jam, předpoklad výkopu v hor. 4, hloubení jámy pro revizní šachtu v technické místnosti buňky
C44: - výkop v prostoru zeleně = povrch - 0,10 m, 80% strojní výkop, 20% ruční | AG44: POP
C45: 1,50*1,50*1,0 | E45: 2.25 | AG45: VV | AH45: 0
A46: 12 | B46: 132301211R00 | C46: Hloubení rýh š.do 200 cm hor.4 do 100 m3, STROJNĚ | D46: m3 | E46: 7.2 | G46: =ROUND(E46*F46,2) -> 0 | I46: =ROUND(E46*H46,2) -> 0 | K46: =ROUND(E46*J46,2) -> 0 | L46: 21 | M46: =G46*(1+L46/100) -> 0 | N46: 0 | O46: =ROUND(E46*N46,2) -> 0 | P46: 0 | Q46: =ROUND(E46*P46,2) -> 0 | S46: RTS 24/ I | T46: RTS 24/ I | U46: 0.35 | V46: =ROUND(E46*U46,2) -> 2.52 | X46: Práce | Y46: Běžná | AG46: POL1_
C47: - výkop pro základové pasy pro uložení buňky WC, dle požadavků výrobce | AG47: POP
C48: - v prostoru zeleně = povrch - 0,10 m | AG48: POP
C49: - 80% strojní výkop, 20% ruční | AG49: POP
C50: 6,0*0,40*1,0*2+3,0*0,40*1,0*2 | E50: 7.2 | AG50: VV | AH50: 0
A51: 13 | B51: 569903311R00 | C51: Zřízení zemních krajnic se zhutněním | D51: m3 | E51: 4.5 | G51: =ROUND(E51*F51,2) -> 0 | I51: =ROUND(E51*H51,2) -> 0 | K51: =ROUND(E51*J51,2) -> 0 | L51: 21 | M51: =G51*(1+L51/100) -> 0 | N51: 0 | O51: =ROUND(E51*N51,2) -> 0 | P51: 0 | Q51: =ROUND(E51*P51,2) -> 0 | S51: RTS 24/ I | T51: RTS 18/ II | U51: 0.96 | V51: =ROUND(E51*U51,2) -> 4.32 | X51: Práce | Y51: Běžná | AG51: POL1_
C52: - hutněný zásyp okolo základových kosntrukcí | AG52: POP
C53: 0,5*0,5*(6,0+6,0+3,0+3,0) | E53: 4.5 | AG53: VV | AH53: 0
A54: 14 | B54: 564551111R00 | C54: Zřízení podsypu/podkladu ze sypaniny tl. 15 cm | D54: m2 | E54: 18 | G54: =ROUND(E54*F54,2) -> 0 | I54: =ROUND(E54*H54,2) -> 0 | K54: =ROUND(E54*J54,2) -> 0 | L54: 21 | M54: =G54*(1+L54/100) -> 0 | N54: 0 | O54: =ROUND(E54*N54,2) -> 0 | P54: 0 | Q54: =ROUND(E54*P54,2) -> 0 | S54: RTS 24/ I | T54: RTS 24/ I | U54: 0.02 | V54: =ROUND(E54*U54,2) -> 0.36 | X54: Práce | Y54: Běžná | AG54: POL1_
C55: - podsyp pod buňku WC| tl. vrstvy 0,15 m, materiál ŠP | AG55: POP
C56: 6,0*3,0 | E56: 18 | AG56: VV | AH56: 0
A57: Díl: | B57: 2 | C57: Základy a zvláštní zakládání | G57: =SUMIF(AG58:AG61,"<>NOR",G58:G61) -> 0 | I57: =SUM(I58:I61) -> 0 | K57: =SUM(K58:K61) -> 0 | M57: =SUM(M58:M61) -> 0 | O57: =SUM(O58:O61) -> 18.18 | Q57: =SUM(Q58:Q61) -> 0 | V57: =SUM(V58:V61) -> 3.43 | AG57: DIL
A58: 15 | B58: 274313711R00 | C58: Beton základových pasů prostý C 25/30 | D58: m3 | E58: 7.2 | G58: =ROUND(E58*F58,2) -> 0 | I58: =ROUND(E58*H58,2) -> 0 | K58: =ROUND(E58*J58,2) -> 0 | L58: 21 | M58: =G58*(1+L58/100) -> 0 | N58: 2.525 | O58: =ROUND(E58*N58,2) -> 18.18 | P58: 0 | Q58: =ROUND(E58*P58,2) -> 0 | S58: RTS 24/ I | T58: RTS 24/ I | U58: 0.477 | V58: =ROUND(E58*U58,2) -> 3.43 | X58: Práce | Y58: Běžná | AG58: POL1_
C59: - beton C25/30 pro možnost osazení buňky WC | AG59: POP
C60: - včetně dodávky a uložení betonu a kamene. | AG60: POP
C61: 6,0*0,4*1,0*2+3,0*0,40*1,0*2 | E61: 7.2 | AG61: VV | AH61: 0
A62: Díl: | B62: 5 | C62: Komunikace | G62: =SUMIF(AG63:AG116,"<>NOR",G63:G116) -> 0 | I62: =SUM(I63:I116) -> 0 | K62: =SUM(K63:K116) -> 0 | M62: =SUM(M63:M116) -> 0 | O62: =SUM(O63:O116) -> 44.06 | Q62: =SUM(Q63:Q116) -> 0 | V62: =SUM(V63:V116) -> 53 | AG62: DIL
A63: 16 | B63: 182001111R00 | C63: Plošná úprava terénu, nerovnosti do 10 cm v rovině | D63: m2 | E63: 269.68 | G63: =ROUND(E63*F63,2) -> 0 | I63: =ROUND(E63*H63,2) -> 0 | K63: =ROUND(E63*J63,2) -> 0 | L63: 21 | M63: =G63*(1+L63/100) -> 0 | N63: 0 | O63: =ROUND(E63*N63,2) -> 0 | P63: 0 | Q63: =ROUND(E63*P63,2) -> 0 | S63: RTS 24/ I | T63: RTS 24/ I | U63: 0.09 | V63: =ROUND(E63*U63,2) -> 24.27 | X63: Práce | Y63: Běžná | AG63: POL1_
C64: - úprava povrchu terénu před prováděním stavebních úprav | AG64: POP
C65: SKLADBA 2 : 11,0+5,50 | E65: 16.5 | AG65: VV | AH65: 0
C66: SKLADBA 3 : 2,75*2,0 | E66: 5.5 | AG66: VV | AH66: 0
C67: SKLADBA 1 : 35,50 | E67: 35.5 | AG67: VV | AH67: 0
C68: zeleň : 212,18 | E68: 212.18 | AG68: VV | AH68: 0
A69: 17 | B69: 181101102R00 | C69: Úprava pláně v zářezech v hor. 1-4, se zhutněním | D69: m2 | E69: 57.5 | G69: =ROUND(E69*F69,2) -> 0 | I69: =ROUND(E69*H69,2) -> 0 | K69: =ROUND(E69*J69,2) -> 0 | L69: 21 | M69: =G69*(1+L69/100) -> 0 | N69: 0 | O69: =ROUND(E69*N69,2) -> 0 | P69: 0 | Q69: =ROUND(E69*P69,2) -> 0 | S69: RTS 24/ I | T69: RTS 24/ I | U69: 0.02 | V69: =ROUND(E69*U69,2) -> 1.15 | X69: Práce | Y69: Běžná | AG69: POL1_
C70: - zhutnění zemní pláně, dle požadavků PD | AG70: POP
C71: SKLADBA 2 : 11,0+5,50 | E71: 16.5 | AG71: VV | AH71: 0
C72: SKLADBA 3 : 2,75*2,0 | E72: 5.5 | AG72: VV | AH72: 0
C73: SKLADBA 1 : 35,50 | E73: 35.5 | AG73: VV | AH73: 0
A74: 18 | B74: 577132111R00 | C74: Beton asfalt. ACO 11+ obrusný, š.nad 3 m, tl. 4 cm | D74: m2 | E74: 16.5 | G74: =ROUND(E74*F74,2) -> 0 | I74: =ROUND(E74*H74,2) -> 0 | K74: =ROUND(E74*J74,2) -> 0 | L74: 21 | M74: =G74*(1+L74/100) -> 0 | N74: 0.10373 | O74: =ROUND(E74*N74,2) -> 1.71 | P74: 0 | Q74: =ROUND(E74*P74,2) -> 0 | S74: RTS 24/ I | T74: RTS 24/ I | U74: 0.02 | V74: =ROUND(E74*U74,2) -> 0.33 | X74: Práce | Y74: Běžná | AG74: POL1_
C75: - obrusná vrstva ACO11+, tl. 40 mm | AG75: POP
C76: - SKLADBA 2 | AG76: POP
C77: SKLADBA 1 : 11,0+5,50 | E77: 16.5 | AG77: VV | AH77: 0
A78: 19 | B78: 573231110R00 | C78: Postřik živičný spojovací z emulze 0,3-0,5 kg/m2 | D78: m2 | E78: 16.5 | G78: =ROUND(E78*F78,2) -> 0 | I78: =ROUND(E78*H78,2) -> 0 | K78: =ROUND(E78*J78,2) -> 0 | L78: 21 | M78: =G78*(1+L78/100) -> 0 | N78: 0.0005 | O78: =ROUND(E78*N78,2) -> 0.01 | P78: 0 | Q78: =ROUND(E78*P78,2) -> 0 | S78: RTS 22/ I | T78: RTS 22/ I | U78: 0.002 | V78: =ROUND(E78*U78,2) -> 0.03 | X78: Práce | Y78: Běžná | AG78: POL1_
C79: - postřik spojovací mezi ACO11 - ACP16 | AG79: POP
C80: - SKLADBA 2 | AG80: POP
A81: 20 | B81: 565131111R00 | C81: Podklad z obal kamen. ACP 16+, š. do 3 m, tl. 5 cm | D81: m2 | E81: 16.5 | G81: =ROUND(E81*F81,2) -> 0 | I81: =ROUND(E81*H81,2) -> 0 | K81: =ROUND(E81*J81,2) -> 0 | L81: 21 | M81: =G81*(1+L81/100) -> 0 | N81: 0.13188 | O81: =ROUND(E81*N81,2) -> 2.18 | P81: 0 | Q81: =ROUND(E81*P81,2) -> 0 | S81: RTS 24/ I | T81: RTS 24/ I | U81: 0.05 | V81: =ROUND(E81*U81,2) -> 0.83 | X81: Práce | Y81: Běžná | AG81: POL1_
C82: - podkaldní vrstva ACP 16+ tl. 50 mm | AG82: POP
C83: - SKLADBA 2 | AG83: POP
A84: 21 | B84: 573111111R00 | C84: Postřik živičný infiltr.+ posyp, asfalt. 0,60kg/m2 | D84: m2 | E84: 16.5 | G84: =ROUND(E84*F84,2) -> 0 | I84: =ROUND(E84*H84,2) -> 0 | K84: =ROUND(E84*J84,2) -> 0 | L84: 21 | M84: =G84*(1+L84/100) -> 0 | N84: 0.00561 | O84: =ROUND(E84*N84,2) -> 0.09 | P84: 0 | Q84: =ROUND(E84*P84,2) -> 0 | S84: RTS 22/ I | T84: RTS 22/ I | U84: 0.004 | V84: =ROUND(E84*U84,2) -> 0.07 | X84: Práce | Y84: Běžná | AG84: POL1_
C85: - postřik infiltrační pod ACP 16 | AG85: POP
C86: - SKLADBA 2 | AG86: POP
A87: 22 | B87: 564841113RT2 | C87: Podklad ze štěrkodrti po zhutnění tloušťky 14 cm štěrkodrť frakce 0-32 mm | D87: m2 | E87: 16.5 | G87: =ROUND(E87*F87,2) -> 0 | I87: =ROUND(E87*H87,2) -> 0 | K87: =ROUND(E87*J87,2) -> 0 | L87: 21 | M87: =G87*(1+L87/100) -> 0 | N87: 0.322 | O87: =ROUND(E87*N87,2) -> 5.31 | P87: 0 | Q87: =ROUND(E87*P87,2) -> 0 | S87: RTS 24/ I | T87: RTS 24/ I | U87: 0.03 | V87: =ROUND(E87*U87,2) -> 0.5 | X87: Práce | Y87: Běžná | AG87: POL1_
C88: - podkladní vrstva ze ŠD tl. 140 mm | AG88: POP
C89: - SKLADBA 2 | AG89: POP
A90: 23 | B90: 564851112RT4 | C90: Podklad ze štěrkodrti po zhutnění tloušťky 16 cm štěrkodrť frakce 0-63 mm | D90: m2 | E90: 20.625 | G90: =ROUND(E90*F90,2) -> 0 | I90: =ROUND(E90*H90,2) -> 0 | K90: =ROUND(E90*J90,2) -> 0 | L90: 21 | M90: =G90*(1+L90/100) -> 0 | N90: 0.368 | O90: =ROUND(E90*N90,2) -> 7.59 | P90: 0 | Q90: =ROUND(E90*P90,2) -> 0 | S90: RTS 24/ I | T90: RTS 24/ I | U90: 0.03 | V90: =ROUND(E90*U90,2) -> 0.62 | X90: Práce | Y90: Běžná | AG90: POL1_
C91: - podkladní vrstva ze ŠD 0/63 tl. 160 mm | AG91: POP
C92: - SKLADBA 2 | AG92: POP
C93: 16,50*1,25 | E93: 20.625 | AG93: VV | AH93: 0
A94: 24 | B94: 591111111R00 | C94: Kladení dlažby velké kostky,lože z kamen.tl. 5 cm | D94: m2 | E94: 5.5 | G94: =ROUND(E94*F94,2) -> 0 | I94: =ROUND(E94*H94,2) -> 0 | K94: =ROUND(E94*J94,2) -> 0 | L94: 21 | M94: =G94*(1+L94/100) -> 0 | N94: 0.11 | O94: =ROUND(E94*N94,2) -> 0.61 | P94: 0 | Q94: =ROUND(E94*P94,2) -> 0 | S94: RTS 24/ I | T94: RTS 24/ I | U94: 1.14 | V94: =ROUND(E94*U94,2) -> 6.27 | X94: Práce | Y94: Běžná | AG94: POL1_
C95: - dláždění rozebrané plochy podélných stání | AG95: POP
C96: - SKLADBA 3 | AG96: POP
C97: 2,75*2,0 | E97: 5.5 | AG97: VV | AH97: 0
A98: 25 | B98: 564861111RT2 | C98: Podklad ze štěrkodrti po zhutnění tloušťky 20 cm štěrkodrť frakce 0-32 mm | D98: m2 | E98: 6.875 | G98: =ROUND(E98*F98,2) -> 0 | I98: =ROUND(E98*H98,2) -> 0 | K98: =ROUND(E98*J98,2) -> 0 | L98: 21 | M98: =G98*(1+L98/100) -> 0 | N98: 0.441 | O98: =ROUND(E98*N98,2) -> 3.03 | P98: 0 | Q98: =ROUND(E98*P98,2) -> 0 | S98: RTS 24/ I | T98: RTS 24/ I | U98: 0.03 | V98: =ROUND(E98*U98,2) -> 0.21 | X98: Práce | Y98: Běžná | AG98: POL1_
C99: - podkladní vrstva parkovací plochy, ŠD frakce 0/63tl. 200 mm, vč. rozšíření pod obruby | AG99: POP
C100: SKLADBA 3 | AG100: POP
C101: 5,50*1,25 | E101: 6.875 | AG101: VV | AH101: 0
A102: 26 | B102: 592451124R | C102: Dlažba 20x10x6 cm přírodní skladba | D102: m2 | E102: 37.275 | G102: =ROUND(E102*F102,2) -> 0 | I102: =ROUND(E102*H102,2) -> 0 | K102: =ROUND(E102*J102,2) -> 0 | L102: 21 | M102: =G102*(1+L102/100) -> 0 | N102: 0.129 | O102: =ROUND(E102*N102,2) -> 4.81 | P102: 0 | Q102: =ROUND(E102*P102,2) -> 0 | R102: SPCM | S102: RTS 24/ I | T102: RTS 24/ I | U102: 0 | V102: =ROUND(E102*U102,2) -> 0 | X102: Specifikace | Y102: Běžná | AG102: POL3_
...

Sheet 002 002 Pol
A1: Položkový rozpočet | AG1: #TypZaznamu#
A2: S: | B2: 2404 | C2: Hygienické zařízení s přístupovou cestou | AG2: STA
A3: O: | B3: 002 | C3: Rozpočty stavby | AC3: STA | AG3: OBJ
A4: R: | B4: 002 | C4: Přípojka vodovodu, splaškové kanalizace, NN, dešťové kanalizace - RTS I/2024 | AG4: ROZ
A6: P.č. | B6: Číslo položky | C6: Název položky | D6: MJ | E6: Množství | F6: Cena / MJ | G6: Celkem | H6: Dodávka | I6: Dodávka celk. | J6: Montáž | K6: Montáž celk. | L6: DPH | M6: Cena s DPH | N6: Hmotnost / MJ | O6: Hmotnost celk.(t) | P6: Dem. hmotnost / MJ | Q6: Dem. hmotnost celk.(t) | R6: Ceník | S6: Cen. soustava / platnost | T6: Cenová úroveň | U6: Nhod / MJ | V6: Nhod celk. | W6: Dodavatel | X6: Typ položky | Y6: Stav položky
A8: Díl: | B8: 1 | C8: Zemní práce | G8: =SUMIF(AG9:AG106,"<>NOR",G9:G106) -> 0 | I8: =SUM(I9:I106) -> 0 | K8: =SUM(K9:K106) -> 0 | M8: =SUM(M9:M106) -> 0 | O8: =SUM(O9:O106) -> 82.35 | Q8: =SUM(Q9:Q106) -> 0 | V8: =SUM(V9:V106) -> 285.95 | AG8: DIL
A9: 1 | B9: 131301201R00 | C9: Hloubení zapažených jam v hor.4 do 100 m3 | D9: m3 | E9: 9.52 | G9: =ROUND(E9*F9,2) -> 0 | I9: =ROUND(E9*H9,2) -> 0 | K9: =ROUND(E9*J9,2) -> 0 | L9: 21 | M9: =G9*(1+L9/100) -> 0 | N9: 0 | O9: =ROUND(E9*N9,2) -> 0 | P9: 0 | Q9: =ROUND(E9*P9,2) -> 0 | S9: RTS 24/ I | T9: RTS 24/ I | U9: 2.97 | V9: =ROUND(E9*U9,2) -> 28.27 | X9: Práce | Y9: Běžná | AG9: POL1_
C10: Hloubení jam, předpoklad výkopu v hor. 4 | AG10: POP
C11: - výkop v prostoru zeleně = povrch - 0,10 m, hloubka výkopu pro vodovod = 1,50 m, splaškovou kanalizaci = 1,20 m a NN = 1,0 m | AG11: POP | BA11: =C11 -> - výkop v prostoru zeleně = povrch - 0,10 m, hloubka výkopu pro vodovod = 1,50 m, splaškovou kanalizaci = 1,20 m a NN = 1,0 m
C12: - 80% strojní výkop, 20% ruční | AG12: POP
C13: hloubení jám vodovod : 1,0*1,0*1,50*2*0,80 | E13: 2.4 | AG13: VV | AH13: 0
C14: hloubení jam splašková kanalizace : 1,0*1,0*1,20*2*0,80 | E14: 1.92 | AG14: VV | AH14: 0
C15: hloubení jam NN : 1,0*1,0*1,0*2*0,80 | E15: 1.6 | AG15: VV | AH15: 0
C16: hloubení vsakovacího objektu : 3,0*1,0*1,50*0,80 | E16: 3.6 | AG16: VV | AH16: 0
A17: 2 | B17: 132301211R00 | C17: Hloubení rýh š.do 200 cm hor.4 do 100 m3, STROJNĚ | D17: m3 | E17: 64.504 | G17: =ROUND(E17*F17,2) -> 0 | I17: =ROUND(E17*H17,2) -> 0 | K17: =ROUND(E17*J17,2) -> 0 | L17: 21 | M17: =G17*(1+L17/100) -> 0 | N17: 0 | O17: =ROUND(E17*N17,2) -> 0 | P17: 0 | Q17: =ROUND(E17*P17,2) -> 0 | S17: RTS 24/ I | T17: RTS 24/ I | U17: 0.35 | V17: =ROUND(E17*U17,2) -> 22.58 | X17: Práce | Y17: Běžná | AG17: POL1_
C18: - výkop rýh pro uložení sítí | AG18: POP
C19: - v prostoru zeleně = povrch - 0,10 m, v prostoru komunikace a dlažby parkování povrch - 0,40 m, v prostoru chodníku = povrch - 0,25 m | AG19: POP | BA19: =C19 -> - v prostoru zeleně = povrch - 0,10 m, v prostoru komunikace a dlažby parkování povrch - 0,40 m, v prostoru chodníku = povrch - 0,25 m
C20: - hloubka výkopu pro vodovod = 1,50 m, splaškovou kanalizaci = 1,20 m a NN = 1,0 m | AG20: POP
C21: - 80% strojní výkop, 20% ruční | AG21: POP
C22: hloubení rýhy vodovod : (18,75*(1,50-0,10)+13,75*(1,50-0,40)+2,10*(1,50-0,25))*0,80 | E22: 35.2 | AG22: VV | AH22: 0
C23: hloubení rýhy splašková kanalizace : (10,80*(1,20-0,10)*0,80) | E23: 9.504 | AG23: VV | AH23: 0
C24: hloubení rýhy DK : 3,0*(1,20-0,10)*0,80 | E24: 2.64 | AG24: VV | AH24: 0
C25: hloubení rýhy NN : (5,0*(1,0-0,40)+20,50*(1,0-0,10))*0,80 | E25: 17.16 | AG25: VV | AH25: 0
A26: 3 | B26: 139601103R00 | C26: Ruční výkop jam, rýh a šachet v hornině tř. 4 | D26: m3 | E26: 18.506 | G26: =ROUND(E26*F26,2) -> 0 | I26: =ROUND(E26*H26,2) -> 0 | K26: =ROUND(E26*J26,2) -> 0 | L26: 21 | M26: =G26*(1+L26/100) -> 0 | N26: 0 | O26: =ROUND(E26*N26,2) -> 0 | P26: 0 | Q26: =ROUND(E26*P26,2) -> 0 | S26: RTS 24/ I | T26: RTS 24/ I | U26: 4.66 | V26: =ROUND(E26*U26,2) -> 86.24 | X26: Práce | Y26: Běžná | AG26: POL1_
C27: - výkop v prostoru napojení, hornina tř. 4, voleno 20% výkopu rýh a jam | AG27: POP
C28: hloubení rýhy vodovod : (18,75*(1,50-0,10)+13,75*(1,50-0,40)+2,10*(1,50-0,25))*0,20 | E28: 8.8 | AG28: VV | AH28: 0
C29: hloubení rýhy splašková kanalizace : 10,80*(1,20-0,10)*0,20 | E29: 2.376 | AG29: VV | AH29: 0
C30: hloubení rýhy DK : 3,0*(1,20-0,10)*0,20 | E30: 0.66 | AG30: VV | AH30: 0
C31: hloubení rýhy NN : (5,0*(1,0-0,40)+20,50*(1,0-0,10))*0,20 | E31: 4.29 | AG31: VV | AH31: 0
C32: hloubení jám vodovod : 1,0*1,0*1,50*2*0,20 | E32: 0.6 | AG32: VV | AH32: 0
C33: hloubení jam splašková kanalizace : 1,0*1,0*1,20*2*0,20 | E33: 0.48 | AG33: VV | AH33: 0
C34: hloubení jam NN : 1,0*1,0*1,0*2*0,20 | E34: 0.4 | AG34: VV | AH34: 0
C35: hloubení vsakovacího objektu : 3,0*1,0*1,50*0,20 | E35: 0.9 | AG35: VV | AH35: 0
A36: 4 | B36: 130001101R00 | C36: Příplatek za ztížené hloubení v blízkosti vedení | D36: m3 | E36: 18.506 | G36: =ROUND(E36*F36,2) -> 0 | I36: =ROUND(E36*H36,2) -> 0 | K36: =ROUND(E36*J36,2) -> 0 | L36: 21 | M36: =G36*(1+L36/100) -> 0 | N36: 0 | O36: =ROUND(E36*N36,2) -> 0 | P36: 0 | Q36: =ROUND(E36*P36,2) -> 0 | S36: RTS 24/ I | T36: RTS 24/ I | U36: 1.76 | V36: =ROUND(E36*U36,2) -> 32.57 | X36: Práce | Y36: Běžná | AG36: POL1_
C37: - příplatek za hloubení rýhy v blízkosti ostatních IS | AG37: POP
A38: 5 | B38: 122307119R00 | C38: Příplatek za lepivost hornina 4 | D38: m3 | E38: 92.53 | G38: =ROUND(E38*F38,2) -> 0 | I38: =ROUND(E38*H38,2) -> 0 | K38: =ROUND(E38*J38,2) -> 0 | L38: 21 | M38: =G38*(1+L38/100) -> 0 | N38: 0 | O38: =ROUND(E38*N38,2) -> 0 | P38: 0 | Q38: =ROUND(E38*P38,2) -> 0 | S38: RTS 24/ I | T38: RTS 24/ I | U38: 0.04 | V38: =ROUND(E38*U38,2) -> 3.7 | X38: Práce | Y38: Běžná | AG38: POL1_
C39: - příplatek za lepivost horniny, výkop jam, rýh | AG39: POP
C40: hloubení jam : 9,52 | E40: 9.52 | AG40: VV | AH40: 0
C41: hloubení rýh : 64,504 | E41: 64.504 | AG41: VV | AH41: 0
C42: RV : 18,506 | E42: 18.506 | AG42: VV | AH42: 0
A43: 6 | B43: 151101101R00 | C43: Pažení a rozepření stěn rýh - příložné - hl.do 2 m | D43: m2 | E43: 96.8 | G43: =ROUND(E43*F43,2) -> 0 | I43: =ROUND(E43*H43,2) -> 0 | K43: =ROUND(E43*J43,2) -> 0 | L43: 21 | M43: =G43*(1+L43/100) -> 0 | N43: 0.00099 | O43: =ROUND(E43*N43,2) -> 0.1 | P43: 0 | Q43: =ROUND(E43*P43,2) -> 0 | S43: RTS 24/ I | T43: RTS 24/ I | U43: 0.24 | V43: =ROUND(E43*U43,2) -> 23.23 | X43: Práce | Y43: Běžná | AG43: POL1_
C44: Zajištění výkopu proti sesunutí, hloubka výkopu do 2,0 m | AG44: POP
C45: - hloubka výkopu = do 1,50 m | AG45: POP
C46: hloubení rýhy vodovod : (18,75+13,75+2,10)*2 | E46: 69.2 | AG46: VV | AH46: 0
C47: hloubení rýhy splašková kanalizace : 10,80*2 | E47: 21.6 | AG47: VV | AH47: 0
C48: hloubení rýhy DK : 3,0*2 | E48: 6 | AG48: VV | AH48: 0
A49: 7 | B49: 151101111R00 | C49: Odstranění pažení stěn rýh - příložné - hl. do 2 m | D49: m2 | E49: 96.8 | G49: =ROUND(E49*F49,2) -> 0 | I49: =ROUND(E49*H49,2) -> 0 | K49: =ROUND(E49*J49,2) -> 0 | L49: 21 | M49: =G49*(1+L49/100) -> 0 | N49: 0 | O49: =ROUND(E49*N49,2) -> 0 | P49: 0 | Q49: =ROUND(E49*P49,2) -> 0 | S49: RTS 24/ I | T49: RTS 24/ I | U49: 0.07 | V49: =ROUND(E49*U49,2) -> 6.78 | X49: Práce | Y49: Běžná | AG49: POL1_
C50: Odstranění pažení z výkopu hloubka výkopu do 2,0 m | AG50: POP
A51: 8 | B51: 161101101R00 | C51: Svislé přemístění výkopku z hor.1-4 do 2,5 m | D51: m3 | E51: 92.53 | G51: =ROUND(E51*F51,2) -> 0 | I51: =ROUND(E51*H51,2) -> 0 | K51: =ROUND(E51*J51,2) -> 0 | L51: 21 | M51: =G51*(1+L51/100) -> 0 | N51: 0 | O51: =ROUND(E51*N51,2) -> 0 | P51: 0 | Q51: =ROUND(E51*P51,2) -> 0 | S51: RTS 24/ I | T51: RTS 24/ I | U51: 0.35 | V51: =ROUND(E51*U51,2) -> 32.39 | X51: Práce | Y51: Běžná | AG51: POL1_
C52: Svislé přemístění výkopu z jam / rýh | AG52: POP
C53: hloubení jam : 9,52 | E53: 9.52 | AG53: VV | AH53: 0
C54: hloubení rýh : 64,504 | E54: 64.504 | AG54: VV | AH54: 0
C55: RV : 18,506 | E55: 18.506 | AG55: VV | AH55: 0
A56: 9 | B56: 175101101RT2 | C56: Obsyp potrubí bez prohození sypaniny s dodáním štěrkopísku frakce 0 - 22 mm | D56: m3 | E56: 10.375 | G56: =ROUND(E56*F56,2) -> 0 | I56: =ROUND(E56*H56,2) -> 0 | K56: =ROUND(E56*J56,2) -> 0 | L56: 21 | M56: =G56*(1+L56/100) -> 0 | N56: 1.7 | O56: =ROUND(E56*N56,2) -> 17.64 | P56: 0 | Q56: =ROUND(E56*P56,2) -> 0 | S56: RTS 24/ I | T56: RTS 24/ I | U56: 1.59 | V56: =ROUND(E56*U56,2) -> 16.5 | X56: Práce | Y56: Běžná | AG56: POL1_
C57: - obsyp kabelu NN, výška 250 mm dle přílohy | AG57: POP
C58: hloubení rýhy NN : (5,0+20,50*0,25) | E58: 10.125 | AG58: VV | AH58: 0
C59: hloubení jam NN : 1,0*1,0*0,25 | E59: 0.25 | AG59: VV | AH59: 0
A60: 10 | B60: 564531111R00 | C60: Zřízení podsypu/podkladu ze sypaniny tl. 10 cm | D60: m2 | E60: 27.5 | G60: =ROUND(E60*F60,2) -> 0 | I60: =ROUND(E60*H60,2) -> 0 | K60: =ROUND(E60*J60,2) -> 0 | L60: 21 | M60: =G60*(1+L60/100) -> 0 | N60: 0 | O60: =ROUND(E60*N60,2) -> 0 | P60: 0 | Q60: =ROUND(E60*P60,2) -> 0 | S60: RTS 24/ I | T60: RTS 24/ I | U60: 0.03 | V60: =ROUND(E60*U60,2) -> 0.83 | X60: Práce | Y60: Běžná | AG60: POL1_
C61: - podsyp pro uložení kabelů NN a chráničky d63 | AG61: POP
C62: hloubení rýhy NN : (5,0+20,50)*1,0 | E62: 25.5 | AG62: VV | AH62: 0
C63: hloubení jam NN : 1,0*1,0*2 | E63: 2 | AG63: VV | AH63: 0
A64: 11 | B64: 564551111R00 | C64: Zřízení podsypu/podkladu ze sypaniny tl. 15 cm | D64: m2 | E64: 77.9 | G64: =ROUND(E64*F64,2) -> 0 | I64: =ROUND(E64*H64,2) -> 0 | K64: =ROUND(E64*J64,2) -> 0 | L64: 21 | M64: =G64*(1+L64/100) -> 0 | N64: 0 | O64: =ROUND(E64*N64,2) -> 0 | P64: 0 | Q64: =ROUND(E64*P64,2) -> 0 | S64: RTS 24/ I | T64: RTS 24/ I | U64: 0.02 | V64: =ROUND(E64*U64,2) -> 1.56 | X64: Práce | Y64: Běžná | AG64: POL1_
C65: - podsyp pro uložení potrubí vodovodu a kanalizace tl. vrstvy 0,15 m, materiál ŠP | AG65: POP
C66: hloubení rýhy vodovod : (18,75+13,75+2,10)*1,0 | E66: 34.6 | AG66: VV | AH66: 0
C67: hloubení rýhy splašková kanalizace : 10,80*1,0 | E67: 10.8 | AG67: VV | AH67: 0
C68: hloubení rýhy DK : 3,0*1,0 | E68: 3 | AG68: VV | AH68: 0
C69: hloubení rýhy NN : (5,0+20,50)*1,0 | E69: 25.5 | AG69: VV | AH69: 0
C70: hloubení jám vodovod : 1,0*1,0*2 | E70: 2 | AG70: VV | AH70: 0
C71: hloubení jam splašková kanalizace : 1,0*1,0*2 | E71: 2 | AG71: VV | AH71: 0
A72: 12 | B72: 175101101RT2 | C72: Obsyp potrubí bez prohození sypaniny s dodáním štěrkopísku frakce 0 - 22 mm | D72: m3 | E72: 19.4192 | G72: =ROUND(E72*F72,2) -> 0 | I72: =ROUND(E72*H72,2) -> 0 | K72: =ROUND(E72*J72,2) -> 0 | L72: 21 | M72: =G72*(1+L72/100) -> 0 | N72: 1.7 | O72: =ROUND(E72*N72,2) -> 33.01 | P72: 0 | Q72: =ROUND(E72*P72,2) -> 0 | S72: RTS 24/ I | T72: RTS 24/ I | U72: 1.59 | V72: =ROUND(E72*U72,2) -> 30.88 | X72: Práce | Y72: Běžná | AG72: POL1_
C73: - obsyp vodovodního potrubí PEd32, kanalizačního potrubí PVC DN160, materál ŠP, vždy 300 mm nad horní líc potrubí | AG73: POP | BA73: =C73 -> - obsyp vodovodního potrubí PEd32, kanalizačního potrubí PVC DN160, materál ŠP, vždy 300 mm nad horní líc potrubí
C74: hloubení rýhy vodovod : (18,75+13,75+2,10)*(0,032+0,30)*1,0 | E74: 11.4872 | AG74: VV | AH74: 0
C75: hloubení rýhy splašková kanalizace : 10,80*(0,16+0,30)*1,0 | E75: 4.968 | AG75: VV | AH75: 0
C76: hloubení rýhy DK : 3,0*(0,16+0,30)*1,0 | E76: 1.38 | AG76: VV | AH76: 0
C77: hloubení jám vodovod : 1,0*1,0*2*(0,032+0,30) | E77: 0.664 | AG77: VV | AH77: 0
C78: hloubení jam splašková kanalizace : 1,0*1,0*2*(0,16+0,30) | E78: 0.92 | AG78: VV | AH78: 0
A79: 13 | B79: 174100010RA0 | C79: Zásyp jam, rýh a šachet sypaninou | D79: m3 | E79: 53.0678 | G79: =ROUND(E79*F79,2) -> 0 | I79: =ROUND(E79*H79,2) -> 0 | K79: =ROUND(E79*J79,2) -> 0 | L79: 21 | M79: =G79*(1+L79/100) -> 0 | N79: 0 | O79: =ROUND(E79*N79,2) -> 0 | P79: 0 | Q79: =ROUND(E79*P79,2) -> 0 | S79: RTS 24/ I | T79: RTS 24/ I | U79: 0 | V79: =ROUND(E79*U79,2) -> 0 | X79: Agregovaná položka | Y79: Běžná | AG79: POL2_
C80: včetně vodorovného přemístění do 50 m. | AG80: POP
C81: Zásyp rýhy v zelení - vyzískaným výkopkem po úroveň pokládky ornice, v chodníku a komunikaci ŠD 0-63 po výšku provádění podkladních vrstev | AG81: POP | BA81: =C81 -> Zásyp rýhy v zelení - vyzískaným výkopkem po úroveň pokládky ornice, v chodníku a komunikaci ŠD 0-63 po výšku provádění podkladních vrstev
C82: - vzdálenost dno - nová niveleta | AG82: POP
C83: ŠD - hloubení rýhy vodovod : 13,75*(1,50-0,40-0,15-0,30-0,032)+2,10*(1,50-0,25-0,15-0,30-0,032) | E83: 10.1103 | AG83: VV | AH83: 0
C84: ŠD - hloubení rýhy NN : 5,0*(1,0-0,40-0,10-0,25) | E84: 1.25 | AG84: VV | AH84: 0
C85: ZEM - hloubení rýhy vodovod : 18,75*(1,50-0,10-0,15-0,30-0,032) | E85: 17.2125 | AG85: VV | AH85: 0
C86: ZEM - hloubení rýhy splašková kanalizace : 10,80*(1,20-0,10-0,15-0,30-0,16) | E86: 5.292 | AG86: VV | AH86: 0
C87: ZEM - hloubení rýhy DK : 3,0*(1,20-0,10-0,15-0,30-0,16) | E87: 1.47 | AG87: VV | AH87: 0
C88: ZEM - hloubení rýhy NN : 20,50*(1,0-0,10-0,1-0,25) | E88: 11.275 | AG88: VV | AH88: 0
C89: ZEM - hloubení jám vodovod : 1,0*1,0*(1,50-0,10-0,15-0,30-0,032) | E89: 0.918 | AG89: VV | AH89: 0
C90: ZEM - hloubení jam splašková kanalizace : 1,0*1,0*(1,20-0,10-0,15-0,30-0,16) | E90: 0.49 | AG90: VV | AH90: 0
C91: ZEM - hloubení jam NN : 1,0*1,0*(1,0-0,10-0,1-0,25) | E91: 0.55 | AG91: VV | AH91: 0
C92: DK - hloubení vsakovacího objektu : 3,0*1,0*(1,50-0,50) | E92: 3 | AG92: VV | AH92: 0
C93: ZEM - hloubení vsakovacího objektu : 3,0*1,0*(1,50-1,0) | E93: 1.5 | AG93: VV | AH93: 0
A94: 14 | B94: 58344197R | C94: Štěrkodrtě frakce 0-63 A | D94: t | E94: 24.99266 | G94: =ROUND(E94*F94,2) -> 0 | I94: =ROUND(E94*H94,2) -> 0 | K94: =ROUND(E94*J94,2) -> 0 | L94: 21 | M94: =G94*(1+L94/100) -> 0 | N94: 1 | O94: =ROUND(E94*N94,2) -> 24.99 | P94: 0 | Q94: =ROUND(E94*P94,2) -> 0 | R94: SPCM | S94: RTS 23/ I | T94: RTS 23/ I | U94: 0 | V94: =ROUND(E94*U94,2) -> 0 | X94: Specifikace | Y94: Běžná | AG94: POL3_
C95: - materiál zásypu rýhy v prostoru komunikací a chodníků po výšky provadění podkladních vrstev, ŠD 0/63 | AG95: POP | BA95: =C95 -> - materiál zásypu rýhy v prostoru komunikací a chodníků po výšky provadění podkladních vrstev, ŠD 0/63
C96: ŠD - hloubení rýhy vodovod : (13,75*(1,50-0,40-0,15-0,30-0,032)+2,10*(1,50-0,25-0,15-0,30-0,032))*2,20 | E96: 22.24266 | AG96: VV | AH96: 0
C97: ŠD - hloubení rýhy NN : 5,0*(1,0-0,40-0,10-0,25)*2,20 | E97: 2.75 | AG97: VV | AH97: 0
A98: 15 | B98: 583327631R | C98: Kamenivo těžené 32/63 | D98: t | E98: 6.6 | G98: =ROUND(E98*F98,2) -> 0 | I98: =ROUND(E98*H98,2) -> 0 | K98: =ROUND(E98*J98,2) -> 0 | L98: 21 | M98: =G98*(1+L98/100) -> 0 | N98: 1 | O98: =ROUND(E98*N98,2) -> 6.6 | P98: 0 | Q98: =ROUND(E98*P98,2) -> 0 | R98: SPCM | S98: RTS 24/ I | T98: RTS 24/ I | U98: 0 | V98: =ROUND(E98*U98,2) -> 0 | X98: Specifikace | Y98: Běžná | AG98: POL3_
C99: materiál vsakovacího objektu | AG99: POP
C100: DK - hloubení vsakovacího objektu : 3,0*1,0*(1,50-0,50)*2,20 | E100: 6.6 | AG100: VV | AH100: 0
A101: 16 | B101: 69365042R | C101: Geotextilie netkaná 300 g, 2 x 50 m | D101: m2 | E101: 16.8 | G101: =ROUND(E101*F101,2) -> 0 | I101: =ROUND(E101*H101,2) -> 0 | K101: =ROUND(E101*J101,2) -> 0 | L101: 21 | M101: =G101*(1+L101/100) -> 0 | N101: 0.0003 | O101: =ROUND(E101*N101,2) -> 0.01 | P101: 0 | Q101: =ROUND(E101*P101,2) -> 0 | R101: SPCM | S101: RTS 24/ I | T101: RTS 24/ I | U101: 0 | V101: =ROUND(E101*U101,2) -> 0 | X101: Specifikace | Y101: Běžná | AG101: POL3_
C102: - separační geotextilie vsakovacího objektu, přesahy + 20% | AG102: POP
...

Sheet 002 003 Pol
A1: Položkový rozpočet | AG1: #TypZaznamu#
A2: S: | B2: 2404 | C2: Hygienické zařízení s přístupovou cestou | AG2: STA
A3: O: | B3: 002 | C3: Rozpočty stavby | AC3: STA | AG3: OBJ
A4: R: | B4: 003 | C4: Modulové automatické WC - cena dle výrobce | AG4: ROZ
A6: P.č. | B6: Číslo položky | C6: Název položky | D6: MJ | E6: Množství | F6: Cena / MJ | G6: Celkem | H6: Dodávka | I6: Dodávka celk. | J6: Montáž | K6: Montáž celk. | L6: DPH | M6: Cena s DPH | N6: Hmotnost / MJ | O6: Hmotnost celk.(t) | P6: Dem. hmotnost / MJ | Q6: Dem. hmotnost celk.(t) | R6: Ceník | S6: Cen. soustava / platnost | T6: Cenová úroveň | U6: Nhod / MJ | V6: Nhod celk. | W6: Dodavatel | X6: Typ položky | Y6: Stav položky
A8: Díl: | B8: 38 | C8: Kompletní konstrukce | G8: =SUMIF(AG9:AG11,"<>NOR",G9:G11) -> 0 | I8: =SUM(I9:I11) -> 0 | K8: =SUM(K9:K11) -> 0 | M8: =SUM(M9:M11) -> 0 | O8: =SUM(O9:O11) -> 0 | Q8: =SUM(Q9:Q11) -> 0 | V8: =SUM(V9:V11) -> 0 | AG8: DIL
A9: 1 | B9: 701001001 | C9: Modulové automatické WC o velikosti 6160 x 3160 mm | E9: 1 | G9: =ROUND(E9*F9,2) -> 0 | I9: =ROUND(E9*H9,2) -> 0 | K9: =ROUND(E9*J9,2) -> 0 | L9: 21 | M9: =G9*(1+L9/100) -> 0 | N9: 0 | O9: =ROUND(E9*N9,2) -> 0 | P9: 0 | Q9: =ROUND(E9*P9,2) -> 0 | S9: Vlastní | T9: Indiv | U9: 0 | V9: =ROUND(E9*U9,2) -> 0 | X9: Agregovaná položka | Y9: Běžná | AG9: POL2_
C10: - komplet dodávka objektu - modulového automatického WC o velikosti 6160 x 3160 mm dle PD, hlavně dle přílohy 03 - technické podklady. | AG10: POP | BA10: =C10 -> - komplet dodávka objektu - modulového automatického WC o velikosti 6160 x 3160 mm dle PD, hlavně dle přílohy 03 - technické podklady.
C11: - vč. osazení objektu, napojení na media, všech vnitřní konstrukcí a vybavení, vč. vybavení technické místnosti, revizní šachty atd. | AG11: POP | BA11: =C11 -> - vč. osazení objektu, napojení na media, všech vnitřní konstrukcí a vybavení, vč. vybavení technické místnosti, revizní šachty atd.
AE12: 12 | AF12: 21 | AG12: DPH
B13: Celkem | G13: =G8 -> 0 | AE13: =SUMIF(L7:L11,AE12,G7:G11) -> 0 | AF13: =SUMIF(L7:L11,AF12,G7:G11) -> 0 | AG13: SUM
A16: Poznámky uchazeče k zadání
AG17: POPUZIV
AG23: END
